BEGIN:VCALENDAR
VERSION:2.0
PRODID:-//Santa Clarita Atheists &amp; Freethinkers - ECPv6.15.20//NONSGML v1.0//EN
CALSCALE:GREGORIAN
METHOD:PUBLISH
X-WR-CALNAME:Santa Clarita Atheists &amp; Freethinkers
X-ORIGINAL-URL:https://www.scvatheists.com
X-WR-CALDESC:Events for Santa Clarita Atheists &amp; Freethinkers
REFRESH-INTERVAL;VALUE=DURATION:PT1H
X-Robots-Tag:noindex
X-PUBLISHED-TTL:PT1H
BEGIN:VTIMEZONE
TZID:America/Los_Angeles
BEGIN:DAYLIGHT
TZOFFSETFROM:-0800
TZOFFSETTO:-0700
TZNAME:PDT
DTSTART:20250309T100000
END:DAYLIGHT
BEGIN:STANDARD
TZOFFSETFROM:-0700
TZOFFSETTO:-0800
TZNAME:PST
DTSTART:20251102T090000
END:STANDARD
BEGIN:DAYLIGHT
TZOFFSETFROM:-0800
TZOFFSETTO:-0700
TZNAME:PDT
DTSTART:20260308T100000
END:DAYLIGHT
BEGIN:STANDARD
TZOFFSETFROM:-0700
TZOFFSETTO:-0800
TZNAME:PST
DTSTART:20261101T090000
END:STANDARD
BEGIN:DAYLIGHT
TZOFFSETFROM:-0800
TZOFFSETTO:-0700
TZNAME:PDT
DTSTART:20270314T100000
END:DAYLIGHT
BEGIN:STANDARD
TZOFFSETFROM:-0700
TZOFFSETTO:-0800
TZNAME:PST
DTSTART:20271107T090000
END:STANDARD
BEGIN:DAYLIGHT
TZOFFSETFROM:-0800
TZOFFSETTO:-0700
TZNAME:PDT
DTSTART:20280312T100000
END:DAYLIGHT
BEGIN:STANDARD
TZOFFSETFROM:-0700
TZOFFSETTO:-0800
TZNAME:PST
DTSTART:20281105T090000
END:STANDARD
END:VTIMEZONE
BEGIN:VEVENT
DTSTART;TZID=America/Los_Angeles:20261019T183000
DTEND;TZID=America/Los_Angeles:20261019T210000
DTSTAMP:20260419T131930
CREATED:20250910T003159Z
LAST-MODIFIED:20260126T005533Z
UID:10000200-1792434600-1792443600@www.scvatheists.com
SUMMARY:Critical Drinking
DESCRIPTION:
URL:https://www.scvatheists.com/event/critical-drinking-2/2026-10-19/
LOCATION:Brewery Draconum\, 24407 Main St\, Santa Clarita\, 91321
CATEGORIES:Social
ATTACH;FMTTYPE=image/jpeg:https://www.scvatheists.com/wp-content/uploads/2025/09/492043085_10234159201574987_3090722750235637332_n.jpg
END:VEVENT
BEGIN:VEVENT
DTSTART;TZID=America/Los_Angeles:20261025T110000
DTEND;TZID=America/Los_Angeles:20261025T130000
DTSTAMP:20260419T131930
CREATED:20250910T003201Z
LAST-MODIFIED:20260126T004758Z
UID:10000138-1792926000-1792933200@www.scvatheists.com
SUMMARY:Sunday Brunch
DESCRIPTION:
URL:https://www.scvatheists.com/event/sunday-brunch/2026-10-25/
LOCATION:Wolf Creek Restaurant\, 27746 McBean Pkwy\, Valencia\, 91354
CATEGORIES:Social
ATTACH;FMTTYPE=image/jpeg:https://www.scvatheists.com/wp-content/uploads/2025/09/476221463_10233323160314478_7684150002679682813_n.jpg
END:VEVENT
BEGIN:VEVENT
DTSTART;TZID=America/Los_Angeles:20261116T183000
DTEND;TZID=America/Los_Angeles:20261116T210000
DTSTAMP:20260419T131930
CREATED:20250910T003159Z
LAST-MODIFIED:20260126T005533Z
UID:10000201-1794853800-1794862800@www.scvatheists.com
SUMMARY:Critical Drinking
DESCRIPTION:
URL:https://www.scvatheists.com/event/critical-drinking-2/2026-11-16/
LOCATION:Brewery Draconum\, 24407 Main St\, Santa Clarita\, 91321
CATEGORIES:Social
ATTACH;FMTTYPE=image/jpeg:https://www.scvatheists.com/wp-content/uploads/2025/09/492043085_10234159201574987_3090722750235637332_n.jpg
END:VEVENT
BEGIN:VEVENT
DTSTART;TZID=America/Los_Angeles:20261122T110000
DTEND;TZID=America/Los_Angeles:20261122T130000
DTSTAMP:20260419T131930
CREATED:20250910T003201Z
LAST-MODIFIED:20260126T004758Z
UID:10000139-1795345200-1795352400@www.scvatheists.com
SUMMARY:Sunday Brunch
DESCRIPTION:
URL:https://www.scvatheists.com/event/sunday-brunch/2026-11-22/
LOCATION:Wolf Creek Restaurant\, 27746 McBean Pkwy\, Valencia\, 91354
CATEGORIES:Social
ATTACH;FMTTYPE=image/jpeg:https://www.scvatheists.com/wp-content/uploads/2025/09/476221463_10233323160314478_7684150002679682813_n.jpg
END:VEVENT
BEGIN:VEVENT
DTSTART;TZID=America/Los_Angeles:20261221T183000
DTEND;TZID=America/Los_Angeles:20261221T210000
DTSTAMP:20260419T131930
CREATED:20250910T003159Z
LAST-MODIFIED:20260126T005533Z
UID:10000202-1797877800-1797886800@www.scvatheists.com
SUMMARY:Critical Drinking
DESCRIPTION:
URL:https://www.scvatheists.com/event/critical-drinking-2/2026-12-21/
LOCATION:Brewery Draconum\, 24407 Main St\, Santa Clarita\, 91321
CATEGORIES:Social
ATTACH;FMTTYPE=image/jpeg:https://www.scvatheists.com/wp-content/uploads/2025/09/492043085_10234159201574987_3090722750235637332_n.jpg
END:VEVENT
BEGIN:VEVENT
DTSTART;TZID=America/Los_Angeles:20261227T110000
DTEND;TZID=America/Los_Angeles:20261227T130000
DTSTAMP:20260419T131930
CREATED:20250910T003201Z
LAST-MODIFIED:20260126T004758Z
UID:10000140-1798369200-1798376400@www.scvatheists.com
SUMMARY:Sunday Brunch
DESCRIPTION:
URL:https://www.scvatheists.com/event/sunday-brunch/2026-12-27/
LOCATION:Wolf Creek Restaurant\, 27746 McBean Pkwy\, Valencia\, 91354
CATEGORIES:Social
ATTACH;FMTTYPE=image/jpeg:https://www.scvatheists.com/wp-content/uploads/2025/09/476221463_10233323160314478_7684150002679682813_n.jpg
END:VEVENT
BEGIN:VEVENT
DTSTART;TZID=America/Los_Angeles:20270118T183000
DTEND;TZID=America/Los_Angeles:20270118T210000
DTSTAMP:20260419T131930
CREATED:20250910T003159Z
LAST-MODIFIED:20260126T005533Z
UID:10000203-1800297000-1800306000@www.scvatheists.com
SUMMARY:Critical Drinking
DESCRIPTION:
URL:https://www.scvatheists.com/event/critical-drinking-2/2027-01-18/
LOCATION:Brewery Draconum\, 24407 Main St\, Santa Clarita\, 91321
CATEGORIES:Social
ATTACH;FMTTYPE=image/jpeg:https://www.scvatheists.com/wp-content/uploads/2025/09/492043085_10234159201574987_3090722750235637332_n.jpg
END:VEVENT
BEGIN:VEVENT
DTSTART;TZID=America/Los_Angeles:20270124T110000
DTEND;TZID=America/Los_Angeles:20270124T130000
DTSTAMP:20260419T131930
CREATED:20250910T003201Z
LAST-MODIFIED:20260126T004758Z
UID:10000141-1800788400-1800795600@www.scvatheists.com
SUMMARY:Sunday Brunch
DESCRIPTION:
URL:https://www.scvatheists.com/event/sunday-brunch/2027-01-24/
LOCATION:Wolf Creek Restaurant\, 27746 McBean Pkwy\, Valencia\, 91354
CATEGORIES:Social
ATTACH;FMTTYPE=image/jpeg:https://www.scvatheists.com/wp-content/uploads/2025/09/476221463_10233323160314478_7684150002679682813_n.jpg
END:VEVENT
BEGIN:VEVENT
DTSTART;TZID=America/Los_Angeles:20270215T183000
DTEND;TZID=America/Los_Angeles:20270215T210000
DTSTAMP:20260419T131930
CREATED:20250910T003159Z
LAST-MODIFIED:20260126T005533Z
UID:10000204-1802716200-1802725200@www.scvatheists.com
SUMMARY:Critical Drinking
DESCRIPTION:
URL:https://www.scvatheists.com/event/critical-drinking-2/2027-02-15/
LOCATION:Brewery Draconum\, 24407 Main St\, Santa Clarita\, 91321
CATEGORIES:Social
ATTACH;FMTTYPE=image/jpeg:https://www.scvatheists.com/wp-content/uploads/2025/09/492043085_10234159201574987_3090722750235637332_n.jpg
END:VEVENT
BEGIN:VEVENT
DTSTART;TZID=America/Los_Angeles:20270228T110000
DTEND;TZID=America/Los_Angeles:20270228T130000
DTSTAMP:20260419T131930
CREATED:20250910T003201Z
LAST-MODIFIED:20260126T004758Z
UID:10000142-1803812400-1803819600@www.scvatheists.com
SUMMARY:Sunday Brunch
DESCRIPTION:
URL:https://www.scvatheists.com/event/sunday-brunch/2027-02-28/
LOCATION:Wolf Creek Restaurant\, 27746 McBean Pkwy\, Valencia\, 91354
CATEGORIES:Social
ATTACH;FMTTYPE=image/jpeg:https://www.scvatheists.com/wp-content/uploads/2025/09/476221463_10233323160314478_7684150002679682813_n.jpg
END:VEVENT
BEGIN:VEVENT
DTSTART;TZID=America/Los_Angeles:20270315T183000
DTEND;TZID=America/Los_Angeles:20270315T210000
DTSTAMP:20260419T131930
CREATED:20250910T003159Z
LAST-MODIFIED:20260126T005533Z
UID:10000205-1805135400-1805144400@www.scvatheists.com
SUMMARY:Critical Drinking
DESCRIPTION:
URL:https://www.scvatheists.com/event/critical-drinking-2/2027-03-15/
LOCATION:Brewery Draconum\, 24407 Main St\, Santa Clarita\, 91321
CATEGORIES:Social
ATTACH;FMTTYPE=image/jpeg:https://www.scvatheists.com/wp-content/uploads/2025/09/492043085_10234159201574987_3090722750235637332_n.jpg
END:VEVENT
BEGIN:VEVENT
DTSTART;TZID=America/Los_Angeles:20270328T110000
DTEND;TZID=America/Los_Angeles:20270328T130000
DTSTAMP:20260419T131930
CREATED:20250910T003201Z
LAST-MODIFIED:20260126T004758Z
UID:10000143-1806231600-1806238800@www.scvatheists.com
SUMMARY:Sunday Brunch
DESCRIPTION:
URL:https://www.scvatheists.com/event/sunday-brunch/2027-03-28/
LOCATION:Wolf Creek Restaurant\, 27746 McBean Pkwy\, Valencia\, 91354
CATEGORIES:Social
ATTACH;FMTTYPE=image/jpeg:https://www.scvatheists.com/wp-content/uploads/2025/09/476221463_10233323160314478_7684150002679682813_n.jpg
END:VEVENT
BEGIN:VEVENT
DTSTART;TZID=America/Los_Angeles:20270419T183000
DTEND;TZID=America/Los_Angeles:20270419T210000
DTSTAMP:20260419T131930
CREATED:20250910T003159Z
LAST-MODIFIED:20260126T005533Z
UID:10000206-1808159400-1808168400@www.scvatheists.com
SUMMARY:Critical Drinking
DESCRIPTION:
URL:https://www.scvatheists.com/event/critical-drinking-2/2027-04-19/
LOCATION:Brewery Draconum\, 24407 Main St\, Santa Clarita\, 91321
CATEGORIES:Social
ATTACH;FMTTYPE=image/jpeg:https://www.scvatheists.com/wp-content/uploads/2025/09/492043085_10234159201574987_3090722750235637332_n.jpg
END:VEVENT
BEGIN:VEVENT
DTSTART;TZID=America/Los_Angeles:20270425T110000
DTEND;TZID=America/Los_Angeles:20270425T130000
DTSTAMP:20260419T131930
CREATED:20250910T003201Z
LAST-MODIFIED:20260126T004758Z
UID:10000144-1808650800-1808658000@www.scvatheists.com
SUMMARY:Sunday Brunch
DESCRIPTION:
URL:https://www.scvatheists.com/event/sunday-brunch/2027-04-25/
LOCATION:Wolf Creek Restaurant\, 27746 McBean Pkwy\, Valencia\, 91354
CATEGORIES:Social
ATTACH;FMTTYPE=image/jpeg:https://www.scvatheists.com/wp-content/uploads/2025/09/476221463_10233323160314478_7684150002679682813_n.jpg
END:VEVENT
BEGIN:VEVENT
DTSTART;TZID=America/Los_Angeles:20270517T183000
DTEND;TZID=America/Los_Angeles:20270517T210000
DTSTAMP:20260419T131930
CREATED:20250910T003159Z
LAST-MODIFIED:20260126T005533Z
UID:10000207-1810578600-1810587600@www.scvatheists.com
SUMMARY:Critical Drinking
DESCRIPTION:
URL:https://www.scvatheists.com/event/critical-drinking-2/2027-05-17/
LOCATION:Brewery Draconum\, 24407 Main St\, Santa Clarita\, 91321
CATEGORIES:Social
ATTACH;FMTTYPE=image/jpeg:https://www.scvatheists.com/wp-content/uploads/2025/09/492043085_10234159201574987_3090722750235637332_n.jpg
END:VEVENT
BEGIN:VEVENT
DTSTART;TZID=America/Los_Angeles:20270523T110000
DTEND;TZID=America/Los_Angeles:20270523T130000
DTSTAMP:20260419T131930
CREATED:20250910T003201Z
LAST-MODIFIED:20260126T004758Z
UID:10000145-1811070000-1811077200@www.scvatheists.com
SUMMARY:Sunday Brunch
DESCRIPTION:
URL:https://www.scvatheists.com/event/sunday-brunch/2027-05-23/
LOCATION:Wolf Creek Restaurant\, 27746 McBean Pkwy\, Valencia\, 91354
CATEGORIES:Social
ATTACH;FMTTYPE=image/jpeg:https://www.scvatheists.com/wp-content/uploads/2025/09/476221463_10233323160314478_7684150002679682813_n.jpg
END:VEVENT
BEGIN:VEVENT
DTSTART;TZID=America/Los_Angeles:20270621T183000
DTEND;TZID=America/Los_Angeles:20270621T210000
DTSTAMP:20260419T131930
CREATED:20250910T003159Z
LAST-MODIFIED:20260126T005533Z
UID:10000208-1813602600-1813611600@www.scvatheists.com
SUMMARY:Critical Drinking
DESCRIPTION:
URL:https://www.scvatheists.com/event/critical-drinking-2/2027-06-21/
LOCATION:Brewery Draconum\, 24407 Main St\, Santa Clarita\, 91321
CATEGORIES:Social
ATTACH;FMTTYPE=image/jpeg:https://www.scvatheists.com/wp-content/uploads/2025/09/492043085_10234159201574987_3090722750235637332_n.jpg
END:VEVENT
BEGIN:VEVENT
DTSTART;TZID=America/Los_Angeles:20270627T110000
DTEND;TZID=America/Los_Angeles:20270627T130000
DTSTAMP:20260419T131930
CREATED:20250910T003201Z
LAST-MODIFIED:20260126T004758Z
UID:10000146-1814094000-1814101200@www.scvatheists.com
SUMMARY:Sunday Brunch
DESCRIPTION:
URL:https://www.scvatheists.com/event/sunday-brunch/2027-06-27/
LOCATION:Wolf Creek Restaurant\, 27746 McBean Pkwy\, Valencia\, 91354
CATEGORIES:Social
ATTACH;FMTTYPE=image/jpeg:https://www.scvatheists.com/wp-content/uploads/2025/09/476221463_10233323160314478_7684150002679682813_n.jpg
END:VEVENT
BEGIN:VEVENT
DTSTART;TZID=America/Los_Angeles:20270719T183000
DTEND;TZID=America/Los_Angeles:20270719T210000
DTSTAMP:20260419T131930
CREATED:20250910T003159Z
LAST-MODIFIED:20260126T005533Z
UID:10000209-1816021800-1816030800@www.scvatheists.com
SUMMARY:Critical Drinking
DESCRIPTION:
URL:https://www.scvatheists.com/event/critical-drinking-2/2027-07-19/
LOCATION:Brewery Draconum\, 24407 Main St\, Santa Clarita\, 91321
CATEGORIES:Social
ATTACH;FMTTYPE=image/jpeg:https://www.scvatheists.com/wp-content/uploads/2025/09/492043085_10234159201574987_3090722750235637332_n.jpg
END:VEVENT
BEGIN:VEVENT
DTSTART;TZID=America/Los_Angeles:20270725T110000
DTEND;TZID=America/Los_Angeles:20270725T130000
DTSTAMP:20260419T131930
CREATED:20250910T003201Z
LAST-MODIFIED:20260126T004758Z
UID:10000147-1816513200-1816520400@www.scvatheists.com
SUMMARY:Sunday Brunch
DESCRIPTION:
URL:https://www.scvatheists.com/event/sunday-brunch/2027-07-25/
LOCATION:Wolf Creek Restaurant\, 27746 McBean Pkwy\, Valencia\, 91354
CATEGORIES:Social
ATTACH;FMTTYPE=image/jpeg:https://www.scvatheists.com/wp-content/uploads/2025/09/476221463_10233323160314478_7684150002679682813_n.jpg
END:VEVENT
BEGIN:VEVENT
DTSTART;TZID=America/Los_Angeles:20270816T183000
DTEND;TZID=America/Los_Angeles:20270816T210000
DTSTAMP:20260419T131930
CREATED:20250910T003159Z
LAST-MODIFIED:20260126T005533Z
UID:10000210-1818441000-1818450000@www.scvatheists.com
SUMMARY:Critical Drinking
DESCRIPTION:
URL:https://www.scvatheists.com/event/critical-drinking-2/2027-08-16/
LOCATION:Brewery Draconum\, 24407 Main St\, Santa Clarita\, 91321
CATEGORIES:Social
ATTACH;FMTTYPE=image/jpeg:https://www.scvatheists.com/wp-content/uploads/2025/09/492043085_10234159201574987_3090722750235637332_n.jpg
END:VEVENT
BEGIN:VEVENT
DTSTART;TZID=America/Los_Angeles:20270822T110000
DTEND;TZID=America/Los_Angeles:20270822T130000
DTSTAMP:20260419T131930
CREATED:20250910T003201Z
LAST-MODIFIED:20260126T004758Z
UID:10000148-1818932400-1818939600@www.scvatheists.com
SUMMARY:Sunday Brunch
DESCRIPTION:
URL:https://www.scvatheists.com/event/sunday-brunch/2027-08-22/
LOCATION:Wolf Creek Restaurant\, 27746 McBean Pkwy\, Valencia\, 91354
CATEGORIES:Social
ATTACH;FMTTYPE=image/jpeg:https://www.scvatheists.com/wp-content/uploads/2025/09/476221463_10233323160314478_7684150002679682813_n.jpg
END:VEVENT
BEGIN:VEVENT
DTSTART;TZID=America/Los_Angeles:20270920T183000
DTEND;TZID=America/Los_Angeles:20270920T210000
DTSTAMP:20260419T131930
CREATED:20250910T003159Z
LAST-MODIFIED:20260126T005533Z
UID:10000211-1821465000-1821474000@www.scvatheists.com
SUMMARY:Critical Drinking
DESCRIPTION:
URL:https://www.scvatheists.com/event/critical-drinking-2/2027-09-20/
LOCATION:Brewery Draconum\, 24407 Main St\, Santa Clarita\, 91321
CATEGORIES:Social
ATTACH;FMTTYPE=image/jpeg:https://www.scvatheists.com/wp-content/uploads/2025/09/492043085_10234159201574987_3090722750235637332_n.jpg
END:VEVENT
BEGIN:VEVENT
DTSTART;TZID=America/Los_Angeles:20270926T110000
DTEND;TZID=America/Los_Angeles:20270926T130000
DTSTAMP:20260419T131930
CREATED:20250910T003201Z
LAST-MODIFIED:20260126T004758Z
UID:10000149-1821956400-1821963600@www.scvatheists.com
SUMMARY:Sunday Brunch
DESCRIPTION:
URL:https://www.scvatheists.com/event/sunday-brunch/2027-09-26/
LOCATION:Wolf Creek Restaurant\, 27746 McBean Pkwy\, Valencia\, 91354
CATEGORIES:Social
ATTACH;FMTTYPE=image/jpeg:https://www.scvatheists.com/wp-content/uploads/2025/09/476221463_10233323160314478_7684150002679682813_n.jpg
END:VEVENT
BEGIN:VEVENT
DTSTART;TZID=America/Los_Angeles:20271018T183000
DTEND;TZID=America/Los_Angeles:20271018T210000
DTSTAMP:20260419T131930
CREATED:20250910T003159Z
LAST-MODIFIED:20260126T005533Z
UID:10000212-1823884200-1823893200@www.scvatheists.com
SUMMARY:Critical Drinking
DESCRIPTION:
URL:https://www.scvatheists.com/event/critical-drinking-2/2027-10-18/
LOCATION:Brewery Draconum\, 24407 Main St\, Santa Clarita\, 91321
CATEGORIES:Social
ATTACH;FMTTYPE=image/jpeg:https://www.scvatheists.com/wp-content/uploads/2025/09/492043085_10234159201574987_3090722750235637332_n.jpg
END:VEVENT
BEGIN:VEVENT
DTSTART;TZID=America/Los_Angeles:20271024T110000
DTEND;TZID=America/Los_Angeles:20271024T130000
DTSTAMP:20260419T131930
CREATED:20250910T003201Z
LAST-MODIFIED:20260126T004758Z
UID:10000150-1824375600-1824382800@www.scvatheists.com
SUMMARY:Sunday Brunch
DESCRIPTION:
URL:https://www.scvatheists.com/event/sunday-brunch/2027-10-24/
LOCATION:Wolf Creek Restaurant\, 27746 McBean Pkwy\, Valencia\, 91354
CATEGORIES:Social
ATTACH;FMTTYPE=image/jpeg:https://www.scvatheists.com/wp-content/uploads/2025/09/476221463_10233323160314478_7684150002679682813_n.jpg
END:VEVENT
BEGIN:VEVENT
DTSTART;TZID=America/Los_Angeles:20271115T183000
DTEND;TZID=America/Los_Angeles:20271115T210000
DTSTAMP:20260419T131930
CREATED:20250910T003159Z
LAST-MODIFIED:20260126T005533Z
UID:10000213-1826303400-1826312400@www.scvatheists.com
SUMMARY:Critical Drinking
DESCRIPTION:
URL:https://www.scvatheists.com/event/critical-drinking-2/2027-11-15/
LOCATION:Brewery Draconum\, 24407 Main St\, Santa Clarita\, 91321
CATEGORIES:Social
ATTACH;FMTTYPE=image/jpeg:https://www.scvatheists.com/wp-content/uploads/2025/09/492043085_10234159201574987_3090722750235637332_n.jpg
END:VEVENT
BEGIN:VEVENT
DTSTART;TZID=America/Los_Angeles:20271128T110000
DTEND;TZID=America/Los_Angeles:20271128T130000
DTSTAMP:20260419T131930
CREATED:20250910T003201Z
LAST-MODIFIED:20260126T004758Z
UID:10000151-1827399600-1827406800@www.scvatheists.com
SUMMARY:Sunday Brunch
DESCRIPTION:
URL:https://www.scvatheists.com/event/sunday-brunch/2027-11-28/
LOCATION:Wolf Creek Restaurant\, 27746 McBean Pkwy\, Valencia\, 91354
CATEGORIES:Social
ATTACH;FMTTYPE=image/jpeg:https://www.scvatheists.com/wp-content/uploads/2025/09/476221463_10233323160314478_7684150002679682813_n.jpg
END:VEVENT
BEGIN:VEVENT
DTSTART;TZID=America/Los_Angeles:20271220T183000
DTEND;TZID=America/Los_Angeles:20271220T210000
DTSTAMP:20260419T131930
CREATED:20250910T003159Z
LAST-MODIFIED:20260126T005533Z
UID:10000214-1829327400-1829336400@www.scvatheists.com
SUMMARY:Critical Drinking
DESCRIPTION:
URL:https://www.scvatheists.com/event/critical-drinking-2/2027-12-20/
LOCATION:Brewery Draconum\, 24407 Main St\, Santa Clarita\, 91321
CATEGORIES:Social
ATTACH;FMTTYPE=image/jpeg:https://www.scvatheists.com/wp-content/uploads/2025/09/492043085_10234159201574987_3090722750235637332_n.jpg
END:VEVENT
BEGIN:VEVENT
DTSTART;TZID=America/Los_Angeles:20271226T110000
DTEND;TZID=America/Los_Angeles:20271226T130000
DTSTAMP:20260419T131930
CREATED:20250910T003201Z
LAST-MODIFIED:20260126T004758Z
UID:10000152-1829818800-1829826000@www.scvatheists.com
SUMMARY:Sunday Brunch
DESCRIPTION:
URL:https://www.scvatheists.com/event/sunday-brunch/2027-12-26/
LOCATION:Wolf Creek Restaurant\, 27746 McBean Pkwy\, Valencia\, 91354
CATEGORIES:Social
ATTACH;FMTTYPE=image/jpeg:https://www.scvatheists.com/wp-content/uploads/2025/09/476221463_10233323160314478_7684150002679682813_n.jpg
END:VEVENT
END:VCALENDAR