BEGIN:VCALENDAR
VERSION:2.0
PRODID:-//Santa Clarita Atheists &amp; Freethinkers - ECPv6.15.20//NONSGML v1.0//EN
CALSCALE:GREGORIAN
METHOD:PUBLISH
X-ORIGINAL-URL:https://www.scvatheists.com
X-WR-CALDESC:Events for Santa Clarita Atheists &amp; Freethinkers
REFRESH-INTERVAL;VALUE=DURATION:PT1H
X-Robots-Tag:noindex
X-PUBLISHED-TTL:PT1H
BEGIN:VTIMEZONE
TZID:America/Los_Angeles
BEGIN:DAYLIGHT
TZOFFSETFROM:-0800
TZOFFSETTO:-0700
TZNAME:PDT
DTSTART:20290311T100000
END:DAYLIGHT
BEGIN:STANDARD
TZOFFSETFROM:-0700
TZOFFSETTO:-0800
TZNAME:PST
DTSTART:20291104T090000
END:STANDARD
BEGIN:DAYLIGHT
TZOFFSETFROM:-0800
TZOFFSETTO:-0700
TZNAME:PDT
DTSTART:20300310T100000
END:DAYLIGHT
BEGIN:STANDARD
TZOFFSETFROM:-0700
TZOFFSETTO:-0800
TZNAME:PST
DTSTART:20301103T090000
END:STANDARD
BEGIN:DAYLIGHT
TZOFFSETFROM:-0800
TZOFFSETTO:-0700
TZNAME:PDT
DTSTART:20310309T100000
END:DAYLIGHT
BEGIN:STANDARD
TZOFFSETFROM:-0700
TZOFFSETTO:-0800
TZNAME:PST
DTSTART:20311102T090000
END:STANDARD
BEGIN:DAYLIGHT
TZOFFSETFROM:-0800
TZOFFSETTO:-0700
TZNAME:PDT
DTSTART:20320314T100000
END:DAYLIGHT
BEGIN:STANDARD
TZOFFSETFROM:-0700
TZOFFSETTO:-0800
TZNAME:PST
DTSTART:20321107T090000
END:STANDARD
END:VTIMEZONE
BEGIN:VEVENT
DTSTART;TZID=America/Los_Angeles:20300520T183000
DTEND;TZID=America/Los_Angeles:20300520T210000
DTSTAMP:20260422T151402
CREATED:20250910T003159Z
LAST-MODIFIED:20260126T005533Z
UID:10000243-1905532200-1905541200@www.scvatheists.com
SUMMARY:Critical Drinking
DESCRIPTION:
URL:https://www.scvatheists.com/event/critical-drinking-2/2030-05-20/
LOCATION:Brewery Draconum\, 24407 Main St\, Santa Clarita\, 91321
CATEGORIES:Social
ATTACH;FMTTYPE=image/jpeg:https://www.scvatheists.com/wp-content/uploads/2025/09/492043085_10234159201574987_3090722750235637332_n.jpg
END:VEVENT
BEGIN:VEVENT
DTSTART;TZID=America/Los_Angeles:20300526T110000
DTEND;TZID=America/Los_Angeles:20300526T130000
DTSTAMP:20260422T151402
CREATED:20250910T003201Z
LAST-MODIFIED:20260126T004758Z
UID:10000181-1906023600-1906030800@www.scvatheists.com
SUMMARY:Sunday Brunch
DESCRIPTION:
URL:https://www.scvatheists.com/event/sunday-brunch/2030-05-26/
LOCATION:Wolf Creek Restaurant\, 27746 McBean Pkwy\, Valencia\, 91354
CATEGORIES:Social
ATTACH;FMTTYPE=image/jpeg:https://www.scvatheists.com/wp-content/uploads/2025/09/476221463_10233323160314478_7684150002679682813_n.jpg
END:VEVENT
BEGIN:VEVENT
DTSTART;TZID=America/Los_Angeles:20300617T183000
DTEND;TZID=America/Los_Angeles:20300617T210000
DTSTAMP:20260422T151402
CREATED:20250910T003159Z
LAST-MODIFIED:20260126T005533Z
UID:10000244-1907951400-1907960400@www.scvatheists.com
SUMMARY:Critical Drinking
DESCRIPTION:
URL:https://www.scvatheists.com/event/critical-drinking-2/2030-06-17/
LOCATION:Brewery Draconum\, 24407 Main St\, Santa Clarita\, 91321
CATEGORIES:Social
ATTACH;FMTTYPE=image/jpeg:https://www.scvatheists.com/wp-content/uploads/2025/09/492043085_10234159201574987_3090722750235637332_n.jpg
END:VEVENT
BEGIN:VEVENT
DTSTART;TZID=America/Los_Angeles:20300623T110000
DTEND;TZID=America/Los_Angeles:20300623T130000
DTSTAMP:20260422T151402
CREATED:20250910T003201Z
LAST-MODIFIED:20260126T004758Z
UID:10000182-1908442800-1908450000@www.scvatheists.com
SUMMARY:Sunday Brunch
DESCRIPTION:
URL:https://www.scvatheists.com/event/sunday-brunch/2030-06-23/
LOCATION:Wolf Creek Restaurant\, 27746 McBean Pkwy\, Valencia\, 91354
CATEGORIES:Social
ATTACH;FMTTYPE=image/jpeg:https://www.scvatheists.com/wp-content/uploads/2025/09/476221463_10233323160314478_7684150002679682813_n.jpg
END:VEVENT
BEGIN:VEVENT
DTSTART;TZID=America/Los_Angeles:20300715T183000
DTEND;TZID=America/Los_Angeles:20300715T210000
DTSTAMP:20260422T151402
CREATED:20250910T003159Z
LAST-MODIFIED:20260126T005533Z
UID:10000245-1910370600-1910379600@www.scvatheists.com
SUMMARY:Critical Drinking
DESCRIPTION:
URL:https://www.scvatheists.com/event/critical-drinking-2/2030-07-15/
LOCATION:Brewery Draconum\, 24407 Main St\, Santa Clarita\, 91321
CATEGORIES:Social
ATTACH;FMTTYPE=image/jpeg:https://www.scvatheists.com/wp-content/uploads/2025/09/492043085_10234159201574987_3090722750235637332_n.jpg
END:VEVENT
BEGIN:VEVENT
DTSTART;TZID=America/Los_Angeles:20300728T110000
DTEND;TZID=America/Los_Angeles:20300728T130000
DTSTAMP:20260422T151402
CREATED:20250910T003201Z
LAST-MODIFIED:20260126T004758Z
UID:10000183-1911466800-1911474000@www.scvatheists.com
SUMMARY:Sunday Brunch
DESCRIPTION:
URL:https://www.scvatheists.com/event/sunday-brunch/2030-07-28/
LOCATION:Wolf Creek Restaurant\, 27746 McBean Pkwy\, Valencia\, 91354
CATEGORIES:Social
ATTACH;FMTTYPE=image/jpeg:https://www.scvatheists.com/wp-content/uploads/2025/09/476221463_10233323160314478_7684150002679682813_n.jpg
END:VEVENT
BEGIN:VEVENT
DTSTART;TZID=America/Los_Angeles:20300819T183000
DTEND;TZID=America/Los_Angeles:20300819T210000
DTSTAMP:20260422T151402
CREATED:20250910T003159Z
LAST-MODIFIED:20260126T005533Z
UID:10000246-1913394600-1913403600@www.scvatheists.com
SUMMARY:Critical Drinking
DESCRIPTION:
URL:https://www.scvatheists.com/event/critical-drinking-2/2030-08-19/
LOCATION:Brewery Draconum\, 24407 Main St\, Santa Clarita\, 91321
CATEGORIES:Social
ATTACH;FMTTYPE=image/jpeg:https://www.scvatheists.com/wp-content/uploads/2025/09/492043085_10234159201574987_3090722750235637332_n.jpg
END:VEVENT
BEGIN:VEVENT
DTSTART;TZID=America/Los_Angeles:20300825T110000
DTEND;TZID=America/Los_Angeles:20300825T130000
DTSTAMP:20260422T151402
CREATED:20250910T003201Z
LAST-MODIFIED:20260126T004758Z
UID:10000184-1913886000-1913893200@www.scvatheists.com
SUMMARY:Sunday Brunch
DESCRIPTION:
URL:https://www.scvatheists.com/event/sunday-brunch/2030-08-25/
LOCATION:Wolf Creek Restaurant\, 27746 McBean Pkwy\, Valencia\, 91354
CATEGORIES:Social
ATTACH;FMTTYPE=image/jpeg:https://www.scvatheists.com/wp-content/uploads/2025/09/476221463_10233323160314478_7684150002679682813_n.jpg
END:VEVENT
BEGIN:VEVENT
DTSTART;TZID=America/Los_Angeles:20300916T183000
DTEND;TZID=America/Los_Angeles:20300916T210000
DTSTAMP:20260422T151402
CREATED:20250910T003159Z
LAST-MODIFIED:20260126T005533Z
UID:10000247-1915813800-1915822800@www.scvatheists.com
SUMMARY:Critical Drinking
DESCRIPTION:
URL:https://www.scvatheists.com/event/critical-drinking-2/2030-09-16/
LOCATION:Brewery Draconum\, 24407 Main St\, Santa Clarita\, 91321
CATEGORIES:Social
ATTACH;FMTTYPE=image/jpeg:https://www.scvatheists.com/wp-content/uploads/2025/09/492043085_10234159201574987_3090722750235637332_n.jpg
END:VEVENT
BEGIN:VEVENT
DTSTART;TZID=America/Los_Angeles:20300922T110000
DTEND;TZID=America/Los_Angeles:20300922T130000
DTSTAMP:20260422T151402
CREATED:20250910T003201Z
LAST-MODIFIED:20260126T004758Z
UID:10000185-1916305200-1916312400@www.scvatheists.com
SUMMARY:Sunday Brunch
DESCRIPTION:
URL:https://www.scvatheists.com/event/sunday-brunch/2030-09-22/
LOCATION:Wolf Creek Restaurant\, 27746 McBean Pkwy\, Valencia\, 91354
CATEGORIES:Social
ATTACH;FMTTYPE=image/jpeg:https://www.scvatheists.com/wp-content/uploads/2025/09/476221463_10233323160314478_7684150002679682813_n.jpg
END:VEVENT
BEGIN:VEVENT
DTSTART;TZID=America/Los_Angeles:20301021T183000
DTEND;TZID=America/Los_Angeles:20301021T210000
DTSTAMP:20260422T151402
CREATED:20250910T003159Z
LAST-MODIFIED:20260126T005533Z
UID:10000248-1918837800-1918846800@www.scvatheists.com
SUMMARY:Critical Drinking
DESCRIPTION:
URL:https://www.scvatheists.com/event/critical-drinking-2/2030-10-21/
LOCATION:Brewery Draconum\, 24407 Main St\, Santa Clarita\, 91321
CATEGORIES:Social
ATTACH;FMTTYPE=image/jpeg:https://www.scvatheists.com/wp-content/uploads/2025/09/492043085_10234159201574987_3090722750235637332_n.jpg
END:VEVENT
BEGIN:VEVENT
DTSTART;TZID=America/Los_Angeles:20301027T110000
DTEND;TZID=America/Los_Angeles:20301027T130000
DTSTAMP:20260422T151402
CREATED:20250910T003201Z
LAST-MODIFIED:20260126T004758Z
UID:10000186-1919329200-1919336400@www.scvatheists.com
SUMMARY:Sunday Brunch
DESCRIPTION:
URL:https://www.scvatheists.com/event/sunday-brunch/2030-10-27/
LOCATION:Wolf Creek Restaurant\, 27746 McBean Pkwy\, Valencia\, 91354
CATEGORIES:Social
ATTACH;FMTTYPE=image/jpeg:https://www.scvatheists.com/wp-content/uploads/2025/09/476221463_10233323160314478_7684150002679682813_n.jpg
END:VEVENT
BEGIN:VEVENT
DTSTART;TZID=America/Los_Angeles:20301118T183000
DTEND;TZID=America/Los_Angeles:20301118T210000
DTSTAMP:20260422T151402
CREATED:20250910T003159Z
LAST-MODIFIED:20260126T005533Z
UID:10000249-1921257000-1921266000@www.scvatheists.com
SUMMARY:Critical Drinking
DESCRIPTION:
URL:https://www.scvatheists.com/event/critical-drinking-2/2030-11-18/
LOCATION:Brewery Draconum\, 24407 Main St\, Santa Clarita\, 91321
CATEGORIES:Social
ATTACH;FMTTYPE=image/jpeg:https://www.scvatheists.com/wp-content/uploads/2025/09/492043085_10234159201574987_3090722750235637332_n.jpg
END:VEVENT
BEGIN:VEVENT
DTSTART;TZID=America/Los_Angeles:20301124T110000
DTEND;TZID=America/Los_Angeles:20301124T130000
DTSTAMP:20260422T151402
CREATED:20250910T003201Z
LAST-MODIFIED:20260126T004758Z
UID:10000187-1921748400-1921755600@www.scvatheists.com
SUMMARY:Sunday Brunch
DESCRIPTION:
URL:https://www.scvatheists.com/event/sunday-brunch/2030-11-24/
LOCATION:Wolf Creek Restaurant\, 27746 McBean Pkwy\, Valencia\, 91354
CATEGORIES:Social
ATTACH;FMTTYPE=image/jpeg:https://www.scvatheists.com/wp-content/uploads/2025/09/476221463_10233323160314478_7684150002679682813_n.jpg
END:VEVENT
BEGIN:VEVENT
DTSTART;TZID=America/Los_Angeles:20301216T183000
DTEND;TZID=America/Los_Angeles:20301216T210000
DTSTAMP:20260422T151402
CREATED:20250910T003159Z
LAST-MODIFIED:20260126T005533Z
UID:10000250-1923676200-1923685200@www.scvatheists.com
SUMMARY:Critical Drinking
DESCRIPTION:
URL:https://www.scvatheists.com/event/critical-drinking-2/2030-12-16/
LOCATION:Brewery Draconum\, 24407 Main St\, Santa Clarita\, 91321
CATEGORIES:Social
ATTACH;FMTTYPE=image/jpeg:https://www.scvatheists.com/wp-content/uploads/2025/09/492043085_10234159201574987_3090722750235637332_n.jpg
END:VEVENT
BEGIN:VEVENT
DTSTART;TZID=America/Los_Angeles:20301222T110000
DTEND;TZID=America/Los_Angeles:20301222T130000
DTSTAMP:20260422T151402
CREATED:20250910T003201Z
LAST-MODIFIED:20260126T004758Z
UID:10000188-1924167600-1924174800@www.scvatheists.com
SUMMARY:Sunday Brunch
DESCRIPTION:
URL:https://www.scvatheists.com/event/sunday-brunch/2030-12-22/
LOCATION:Wolf Creek Restaurant\, 27746 McBean Pkwy\, Valencia\, 91354
CATEGORIES:Social
ATTACH;FMTTYPE=image/jpeg:https://www.scvatheists.com/wp-content/uploads/2025/09/476221463_10233323160314478_7684150002679682813_n.jpg
END:VEVENT
BEGIN:VEVENT
DTSTART;TZID=America/Los_Angeles:20310120T183000
DTEND;TZID=America/Los_Angeles:20310120T210000
DTSTAMP:20260422T151402
CREATED:20250910T003159Z
LAST-MODIFIED:20260126T005533Z
UID:10000251-1926700200-1926709200@www.scvatheists.com
SUMMARY:Critical Drinking
DESCRIPTION:
URL:https://www.scvatheists.com/event/critical-drinking-2/2031-01-20/
LOCATION:Brewery Draconum\, 24407 Main St\, Santa Clarita\, 91321
CATEGORIES:Social
ATTACH;FMTTYPE=image/jpeg:https://www.scvatheists.com/wp-content/uploads/2025/09/492043085_10234159201574987_3090722750235637332_n.jpg
END:VEVENT
END:VCALENDAR