BEGIN:VCALENDAR
VERSION:2.0
PRODID:-//Santa Clarita Atheists &amp; Freethinkers - ECPv6.15.20//NONSGML v1.0//EN
CALSCALE:GREGORIAN
METHOD:PUBLISH
X-ORIGINAL-URL:https://www.scvatheists.com
X-WR-CALDESC:Events for Santa Clarita Atheists &amp; Freethinkers
REFRESH-INTERVAL;VALUE=DURATION:PT1H
X-Robots-Tag:noindex
X-PUBLISHED-TTL:PT1H
BEGIN:VTIMEZONE
TZID:America/Los_Angeles
BEGIN:DAYLIGHT
TZOFFSETFROM:-0800
TZOFFSETTO:-0700
TZNAME:PDT
DTSTART:20270314T100000
END:DAYLIGHT
BEGIN:STANDARD
TZOFFSETFROM:-0700
TZOFFSETTO:-0800
TZNAME:PST
DTSTART:20271107T090000
END:STANDARD
BEGIN:DAYLIGHT
TZOFFSETFROM:-0800
TZOFFSETTO:-0700
TZNAME:PDT
DTSTART:20280312T100000
END:DAYLIGHT
BEGIN:STANDARD
TZOFFSETFROM:-0700
TZOFFSETTO:-0800
TZNAME:PST
DTSTART:20281105T090000
END:STANDARD
BEGIN:DAYLIGHT
TZOFFSETFROM:-0800
TZOFFSETTO:-0700
TZNAME:PDT
DTSTART:20290311T100000
END:DAYLIGHT
BEGIN:STANDARD
TZOFFSETFROM:-0700
TZOFFSETTO:-0800
TZNAME:PST
DTSTART:20291104T090000
END:STANDARD
BEGIN:DAYLIGHT
TZOFFSETFROM:-0800
TZOFFSETTO:-0700
TZNAME:PDT
DTSTART:20300310T100000
END:DAYLIGHT
BEGIN:STANDARD
TZOFFSETFROM:-0700
TZOFFSETTO:-0800
TZNAME:PST
DTSTART:20301103T090000
END:STANDARD
END:VTIMEZONE
BEGIN:VEVENT
DTSTART;TZID=America/Los_Angeles:20280821T183000
DTEND;TZID=America/Los_Angeles:20280821T210000
DTSTAMP:20260423T045216
CREATED:20250910T003159Z
LAST-MODIFIED:20260126T005533Z
UID:10000222-1850495400-1850504400@www.scvatheists.com
SUMMARY:Critical Drinking
DESCRIPTION:
URL:https://www.scvatheists.com/event/critical-drinking-2/2028-08-21/
LOCATION:Brewery Draconum\, 24407 Main St\, Santa Clarita\, 91321
CATEGORIES:Social
ATTACH;FMTTYPE=image/jpeg:https://www.scvatheists.com/wp-content/uploads/2025/09/492043085_10234159201574987_3090722750235637332_n.jpg
END:VEVENT
BEGIN:VEVENT
DTSTART;TZID=America/Los_Angeles:20280822T190000
DTEND;TZID=America/Los_Angeles:20280822T200000
DTSTAMP:20260423T045216
CREATED:20210726T003116Z
LAST-MODIFIED:20260126T010320Z
UID:10000320-1850583600-1850587200@www.scvatheists.com
SUMMARY:Dear Leader's Meeting
DESCRIPTION:
URL:https://www.scvatheists.com/event/dear-leaders-meeting/2028-08-22/
LOCATION:Virtual Meeting
CATEGORIES:Board Meeting
END:VEVENT
BEGIN:VEVENT
DTSTART;TZID=America/Los_Angeles:20280827T110000
DTEND;TZID=America/Los_Angeles:20280827T130000
DTSTAMP:20260423T045216
CREATED:20250910T003201Z
LAST-MODIFIED:20260126T004758Z
UID:10000160-1850986800-1850994000@www.scvatheists.com
SUMMARY:Sunday Brunch
DESCRIPTION:
URL:https://www.scvatheists.com/event/sunday-brunch/2028-08-27/
LOCATION:Wolf Creek Restaurant\, 27746 McBean Pkwy\, Valencia\, 91354
CATEGORIES:Social
ATTACH;FMTTYPE=image/jpeg:https://www.scvatheists.com/wp-content/uploads/2025/09/476221463_10233323160314478_7684150002679682813_n.jpg
END:VEVENT
BEGIN:VEVENT
DTSTART;TZID=America/Los_Angeles:20280905T190000
DTEND;TZID=America/Los_Angeles:20280905T200000
DTSTAMP:20260423T045216
CREATED:20210726T003116Z
LAST-MODIFIED:20260126T010320Z
UID:10000321-1851793200-1851796800@www.scvatheists.com
SUMMARY:Dear Leader's Meeting
DESCRIPTION:
URL:https://www.scvatheists.com/event/dear-leaders-meeting/2028-09-05/
LOCATION:Virtual Meeting
CATEGORIES:Board Meeting
END:VEVENT
BEGIN:VEVENT
DTSTART;TZID=America/Los_Angeles:20280909T103000
DTEND;TZID=America/Los_Angeles:20280909T130000
DTSTAMP:20260423T045216
CREATED:20250910T003152Z
LAST-MODIFIED:20260126T005037Z
UID:10000049-1852108200-1852117200@www.scvatheists.com
SUMMARY:General Meeting
DESCRIPTION:Join our meetup for atheists\, freethinkers\, skeptics\, and those who just need a break from the largely theistic world. We get together for fellowship and discussion on the second Saturday of every month. Come join us! \nYou are welcome to ask questions if you are interested in the group\, or interested in learning more about atheism\, freethinking\, or skepticism. Religious people with a sincere interest in understanding us are welcome\, BUT please\, no proselytizing\, preaching\, or drive-by condemning. Uncivil or threatening behavior from anyone of any viewpoint will not be tolerated. If you wish to discuss something privately and confidentially\, contact one the group leaders by way of a private message. \nWe have regular monthly meetings where we provide confidential mutual support for nonbelievers living in a sometimes hostile environment. Family\, friends\, and co-workers are often unwilling to understand or accept our lack of belief in deities or the supernatural. We discuss pertinent issues in science\, politics\, and religion\, and generally enjoy being able to speak freely with each other. \nWe also work to improve the reputation of atheists in general and participate constructively in our local community through outreach efforts such as feeding the homeless\, participating in the annual River Rally\, Walk to End Alzheimer’s\, manning an information booth at appropriate community events in the SCV\, and sending representatives to interfaith events locally and in the greater Los Angeles area. \nIf you have questions\, please email Duncan Mandel at chairperson@scvatheists.com
URL:https://www.scvatheists.com/event/general-meeting/2028-09-09/
LOCATION:Stevenson Ranch Library\, 25950 The Old Rd.\, Stevenson Ranch\, CA\, 91381
CATEGORIES:General Meeting
ATTACH;FMTTYPE=image/jpeg:https://www.scvatheists.com/wp-content/uploads/2025/09/476353330_10233323083272552_5758454243684238861_n.jpg
END:VEVENT
BEGIN:VEVENT
DTSTART;TZID=America/Los_Angeles:20280918T183000
DTEND;TZID=America/Los_Angeles:20280918T210000
DTSTAMP:20260423T045216
CREATED:20250910T003159Z
LAST-MODIFIED:20260126T005533Z
UID:10000223-1852914600-1852923600@www.scvatheists.com
SUMMARY:Critical Drinking
DESCRIPTION:
URL:https://www.scvatheists.com/event/critical-drinking-2/2028-09-18/
LOCATION:Brewery Draconum\, 24407 Main St\, Santa Clarita\, 91321
CATEGORIES:Social
ATTACH;FMTTYPE=image/jpeg:https://www.scvatheists.com/wp-content/uploads/2025/09/492043085_10234159201574987_3090722750235637332_n.jpg
END:VEVENT
BEGIN:VEVENT
DTSTART;TZID=America/Los_Angeles:20280919T190000
DTEND;TZID=America/Los_Angeles:20280919T200000
DTSTAMP:20260423T045216
CREATED:20210726T003116Z
LAST-MODIFIED:20260126T010320Z
UID:10000322-1853002800-1853006400@www.scvatheists.com
SUMMARY:Dear Leader's Meeting
DESCRIPTION:
URL:https://www.scvatheists.com/event/dear-leaders-meeting/2028-09-19/
LOCATION:Virtual Meeting
CATEGORIES:Board Meeting
END:VEVENT
BEGIN:VEVENT
DTSTART;TZID=America/Los_Angeles:20280924T110000
DTEND;TZID=America/Los_Angeles:20280924T130000
DTSTAMP:20260423T045216
CREATED:20250910T003201Z
LAST-MODIFIED:20260126T004758Z
UID:10000161-1853406000-1853413200@www.scvatheists.com
SUMMARY:Sunday Brunch
DESCRIPTION:
URL:https://www.scvatheists.com/event/sunday-brunch/2028-09-24/
LOCATION:Wolf Creek Restaurant\, 27746 McBean Pkwy\, Valencia\, 91354
CATEGORIES:Social
ATTACH;FMTTYPE=image/jpeg:https://www.scvatheists.com/wp-content/uploads/2025/09/476221463_10233323160314478_7684150002679682813_n.jpg
END:VEVENT
BEGIN:VEVENT
DTSTART;TZID=America/Los_Angeles:20281003T190000
DTEND;TZID=America/Los_Angeles:20281003T200000
DTSTAMP:20260423T045216
CREATED:20210726T003116Z
LAST-MODIFIED:20260126T010320Z
UID:10000323-1854212400-1854216000@www.scvatheists.com
SUMMARY:Dear Leader's Meeting
DESCRIPTION:
URL:https://www.scvatheists.com/event/dear-leaders-meeting/2028-10-03/
LOCATION:Virtual Meeting
CATEGORIES:Board Meeting
END:VEVENT
BEGIN:VEVENT
DTSTART;TZID=America/Los_Angeles:20281014T103000
DTEND;TZID=America/Los_Angeles:20281014T130000
DTSTAMP:20260423T045216
CREATED:20250910T003152Z
LAST-MODIFIED:20260126T005037Z
UID:10000050-1855132200-1855141200@www.scvatheists.com
SUMMARY:General Meeting
DESCRIPTION:Join our meetup for atheists\, freethinkers\, skeptics\, and those who just need a break from the largely theistic world. We get together for fellowship and discussion on the second Saturday of every month. Come join us! \nYou are welcome to ask questions if you are interested in the group\, or interested in learning more about atheism\, freethinking\, or skepticism. Religious people with a sincere interest in understanding us are welcome\, BUT please\, no proselytizing\, preaching\, or drive-by condemning. Uncivil or threatening behavior from anyone of any viewpoint will not be tolerated. If you wish to discuss something privately and confidentially\, contact one the group leaders by way of a private message. \nWe have regular monthly meetings where we provide confidential mutual support for nonbelievers living in a sometimes hostile environment. Family\, friends\, and co-workers are often unwilling to understand or accept our lack of belief in deities or the supernatural. We discuss pertinent issues in science\, politics\, and religion\, and generally enjoy being able to speak freely with each other. \nWe also work to improve the reputation of atheists in general and participate constructively in our local community through outreach efforts such as feeding the homeless\, participating in the annual River Rally\, Walk to End Alzheimer’s\, manning an information booth at appropriate community events in the SCV\, and sending representatives to interfaith events locally and in the greater Los Angeles area. \nIf you have questions\, please email Duncan Mandel at chairperson@scvatheists.com
URL:https://www.scvatheists.com/event/general-meeting/2028-10-14/
LOCATION:Stevenson Ranch Library\, 25950 The Old Rd.\, Stevenson Ranch\, CA\, 91381
CATEGORIES:General Meeting
ATTACH;FMTTYPE=image/jpeg:https://www.scvatheists.com/wp-content/uploads/2025/09/476353330_10233323083272552_5758454243684238861_n.jpg
END:VEVENT
BEGIN:VEVENT
DTSTART;TZID=America/Los_Angeles:20281016T183000
DTEND;TZID=America/Los_Angeles:20281016T210000
DTSTAMP:20260423T045216
CREATED:20250910T003159Z
LAST-MODIFIED:20260126T005533Z
UID:10000224-1855333800-1855342800@www.scvatheists.com
SUMMARY:Critical Drinking
DESCRIPTION:
URL:https://www.scvatheists.com/event/critical-drinking-2/2028-10-16/
LOCATION:Brewery Draconum\, 24407 Main St\, Santa Clarita\, 91321
CATEGORIES:Social
ATTACH;FMTTYPE=image/jpeg:https://www.scvatheists.com/wp-content/uploads/2025/09/492043085_10234159201574987_3090722750235637332_n.jpg
END:VEVENT
BEGIN:VEVENT
DTSTART;TZID=America/Los_Angeles:20281017T190000
DTEND;TZID=America/Los_Angeles:20281017T200000
DTSTAMP:20260423T045216
CREATED:20210726T003116Z
LAST-MODIFIED:20260126T010320Z
UID:10000324-1855422000-1855425600@www.scvatheists.com
SUMMARY:Dear Leader's Meeting
DESCRIPTION:
URL:https://www.scvatheists.com/event/dear-leaders-meeting/2028-10-17/
LOCATION:Virtual Meeting
CATEGORIES:Board Meeting
END:VEVENT
BEGIN:VEVENT
DTSTART;TZID=America/Los_Angeles:20281022T110000
DTEND;TZID=America/Los_Angeles:20281022T130000
DTSTAMP:20260423T045216
CREATED:20250910T003201Z
LAST-MODIFIED:20260126T004758Z
UID:10000162-1855825200-1855832400@www.scvatheists.com
SUMMARY:Sunday Brunch
DESCRIPTION:
URL:https://www.scvatheists.com/event/sunday-brunch/2028-10-22/
LOCATION:Wolf Creek Restaurant\, 27746 McBean Pkwy\, Valencia\, 91354
CATEGORIES:Social
ATTACH;FMTTYPE=image/jpeg:https://www.scvatheists.com/wp-content/uploads/2025/09/476221463_10233323160314478_7684150002679682813_n.jpg
END:VEVENT
BEGIN:VEVENT
DTSTART;TZID=America/Los_Angeles:20281031T190000
DTEND;TZID=America/Los_Angeles:20281031T200000
DTSTAMP:20260423T045216
CREATED:20210726T003116Z
LAST-MODIFIED:20260126T010320Z
UID:10000325-1856631600-1856635200@www.scvatheists.com
SUMMARY:Dear Leader's Meeting
DESCRIPTION:
URL:https://www.scvatheists.com/event/dear-leaders-meeting/2028-10-31/
LOCATION:Virtual Meeting
CATEGORIES:Board Meeting
END:VEVENT
BEGIN:VEVENT
DTSTART;TZID=America/Los_Angeles:20281111T103000
DTEND;TZID=America/Los_Angeles:20281111T130000
DTSTAMP:20260423T045216
CREATED:20250910T003152Z
LAST-MODIFIED:20260126T005037Z
UID:10000051-1857551400-1857560400@www.scvatheists.com
SUMMARY:General Meeting
DESCRIPTION:Join our meetup for atheists\, freethinkers\, skeptics\, and those who just need a break from the largely theistic world. We get together for fellowship and discussion on the second Saturday of every month. Come join us! \nYou are welcome to ask questions if you are interested in the group\, or interested in learning more about atheism\, freethinking\, or skepticism. Religious people with a sincere interest in understanding us are welcome\, BUT please\, no proselytizing\, preaching\, or drive-by condemning. Uncivil or threatening behavior from anyone of any viewpoint will not be tolerated. If you wish to discuss something privately and confidentially\, contact one the group leaders by way of a private message. \nWe have regular monthly meetings where we provide confidential mutual support for nonbelievers living in a sometimes hostile environment. Family\, friends\, and co-workers are often unwilling to understand or accept our lack of belief in deities or the supernatural. We discuss pertinent issues in science\, politics\, and religion\, and generally enjoy being able to speak freely with each other. \nWe also work to improve the reputation of atheists in general and participate constructively in our local community through outreach efforts such as feeding the homeless\, participating in the annual River Rally\, Walk to End Alzheimer’s\, manning an information booth at appropriate community events in the SCV\, and sending representatives to interfaith events locally and in the greater Los Angeles area. \nIf you have questions\, please email Duncan Mandel at chairperson@scvatheists.com
URL:https://www.scvatheists.com/event/general-meeting/2028-11-11/
LOCATION:Stevenson Ranch Library\, 25950 The Old Rd.\, Stevenson Ranch\, CA\, 91381
CATEGORIES:General Meeting
ATTACH;FMTTYPE=image/jpeg:https://www.scvatheists.com/wp-content/uploads/2025/09/476353330_10233323083272552_5758454243684238861_n.jpg
END:VEVENT
BEGIN:VEVENT
DTSTART;TZID=America/Los_Angeles:20281114T190000
DTEND;TZID=America/Los_Angeles:20281114T200000
DTSTAMP:20260423T045216
CREATED:20210726T003116Z
LAST-MODIFIED:20260126T010320Z
UID:10000326-1857841200-1857844800@www.scvatheists.com
SUMMARY:Dear Leader's Meeting
DESCRIPTION:
URL:https://www.scvatheists.com/event/dear-leaders-meeting/2028-11-14/
LOCATION:Virtual Meeting
CATEGORIES:Board Meeting
END:VEVENT
BEGIN:VEVENT
DTSTART;TZID=America/Los_Angeles:20281120T183000
DTEND;TZID=America/Los_Angeles:20281120T210000
DTSTAMP:20260423T045216
CREATED:20250910T003159Z
LAST-MODIFIED:20260126T005533Z
UID:10000225-1858357800-1858366800@www.scvatheists.com
SUMMARY:Critical Drinking
DESCRIPTION:
URL:https://www.scvatheists.com/event/critical-drinking-2/2028-11-20/
LOCATION:Brewery Draconum\, 24407 Main St\, Santa Clarita\, 91321
CATEGORIES:Social
ATTACH;FMTTYPE=image/jpeg:https://www.scvatheists.com/wp-content/uploads/2025/09/492043085_10234159201574987_3090722750235637332_n.jpg
END:VEVENT
BEGIN:VEVENT
DTSTART;TZID=America/Los_Angeles:20281126T110000
DTEND;TZID=America/Los_Angeles:20281126T130000
DTSTAMP:20260423T045216
CREATED:20250910T003201Z
LAST-MODIFIED:20260126T004758Z
UID:10000163-1858849200-1858856400@www.scvatheists.com
SUMMARY:Sunday Brunch
DESCRIPTION:
URL:https://www.scvatheists.com/event/sunday-brunch/2028-11-26/
LOCATION:Wolf Creek Restaurant\, 27746 McBean Pkwy\, Valencia\, 91354
CATEGORIES:Social
ATTACH;FMTTYPE=image/jpeg:https://www.scvatheists.com/wp-content/uploads/2025/09/476221463_10233323160314478_7684150002679682813_n.jpg
END:VEVENT
BEGIN:VEVENT
DTSTART;TZID=America/Los_Angeles:20281128T190000
DTEND;TZID=America/Los_Angeles:20281128T200000
DTSTAMP:20260423T045216
CREATED:20210726T003116Z
LAST-MODIFIED:20260126T010320Z
UID:10000327-1859050800-1859054400@www.scvatheists.com
SUMMARY:Dear Leader's Meeting
DESCRIPTION:
URL:https://www.scvatheists.com/event/dear-leaders-meeting/2028-11-28/
LOCATION:Virtual Meeting
CATEGORIES:Board Meeting
END:VEVENT
BEGIN:VEVENT
DTSTART;TZID=America/Los_Angeles:20281209T103000
DTEND;TZID=America/Los_Angeles:20281209T130000
DTSTAMP:20260423T045216
CREATED:20250910T003152Z
LAST-MODIFIED:20260126T005037Z
UID:10000052-1859970600-1859979600@www.scvatheists.com
SUMMARY:General Meeting
DESCRIPTION:Join our meetup for atheists\, freethinkers\, skeptics\, and those who just need a break from the largely theistic world. We get together for fellowship and discussion on the second Saturday of every month. Come join us! \nYou are welcome to ask questions if you are interested in the group\, or interested in learning more about atheism\, freethinking\, or skepticism. Religious people with a sincere interest in understanding us are welcome\, BUT please\, no proselytizing\, preaching\, or drive-by condemning. Uncivil or threatening behavior from anyone of any viewpoint will not be tolerated. If you wish to discuss something privately and confidentially\, contact one the group leaders by way of a private message. \nWe have regular monthly meetings where we provide confidential mutual support for nonbelievers living in a sometimes hostile environment. Family\, friends\, and co-workers are often unwilling to understand or accept our lack of belief in deities or the supernatural. We discuss pertinent issues in science\, politics\, and religion\, and generally enjoy being able to speak freely with each other. \nWe also work to improve the reputation of atheists in general and participate constructively in our local community through outreach efforts such as feeding the homeless\, participating in the annual River Rally\, Walk to End Alzheimer’s\, manning an information booth at appropriate community events in the SCV\, and sending representatives to interfaith events locally and in the greater Los Angeles area. \nIf you have questions\, please email Duncan Mandel at chairperson@scvatheists.com
URL:https://www.scvatheists.com/event/general-meeting/2028-12-09/
LOCATION:Stevenson Ranch Library\, 25950 The Old Rd.\, Stevenson Ranch\, CA\, 91381
CATEGORIES:General Meeting
ATTACH;FMTTYPE=image/jpeg:https://www.scvatheists.com/wp-content/uploads/2025/09/476353330_10233323083272552_5758454243684238861_n.jpg
END:VEVENT
BEGIN:VEVENT
DTSTART;TZID=America/Los_Angeles:20281212T190000
DTEND;TZID=America/Los_Angeles:20281212T200000
DTSTAMP:20260423T045216
CREATED:20210726T003116Z
LAST-MODIFIED:20260126T010320Z
UID:10000328-1860260400-1860264000@www.scvatheists.com
SUMMARY:Dear Leader's Meeting
DESCRIPTION:
URL:https://www.scvatheists.com/event/dear-leaders-meeting/2028-12-12/
LOCATION:Virtual Meeting
CATEGORIES:Board Meeting
END:VEVENT
BEGIN:VEVENT
DTSTART;TZID=America/Los_Angeles:20281218T183000
DTEND;TZID=America/Los_Angeles:20281218T210000
DTSTAMP:20260423T045216
CREATED:20250910T003159Z
LAST-MODIFIED:20260126T005533Z
UID:10000226-1860777000-1860786000@www.scvatheists.com
SUMMARY:Critical Drinking
DESCRIPTION:
URL:https://www.scvatheists.com/event/critical-drinking-2/2028-12-18/
LOCATION:Brewery Draconum\, 24407 Main St\, Santa Clarita\, 91321
CATEGORIES:Social
ATTACH;FMTTYPE=image/jpeg:https://www.scvatheists.com/wp-content/uploads/2025/09/492043085_10234159201574987_3090722750235637332_n.jpg
END:VEVENT
BEGIN:VEVENT
DTSTART;TZID=America/Los_Angeles:20281224T110000
DTEND;TZID=America/Los_Angeles:20281224T130000
DTSTAMP:20260423T045216
CREATED:20250910T003201Z
LAST-MODIFIED:20260126T004758Z
UID:10000164-1861268400-1861275600@www.scvatheists.com
SUMMARY:Sunday Brunch
DESCRIPTION:
URL:https://www.scvatheists.com/event/sunday-brunch/2028-12-24/
LOCATION:Wolf Creek Restaurant\, 27746 McBean Pkwy\, Valencia\, 91354
CATEGORIES:Social
ATTACH;FMTTYPE=image/jpeg:https://www.scvatheists.com/wp-content/uploads/2025/09/476221463_10233323160314478_7684150002679682813_n.jpg
END:VEVENT
BEGIN:VEVENT
DTSTART;TZID=America/Los_Angeles:20281226T190000
DTEND;TZID=America/Los_Angeles:20281226T200000
DTSTAMP:20260423T045216
CREATED:20210726T003116Z
LAST-MODIFIED:20260126T010320Z
UID:10000329-1861470000-1861473600@www.scvatheists.com
SUMMARY:Dear Leader's Meeting
DESCRIPTION:
URL:https://www.scvatheists.com/event/dear-leaders-meeting/2028-12-26/
LOCATION:Virtual Meeting
CATEGORIES:Board Meeting
END:VEVENT
BEGIN:VEVENT
DTSTART;TZID=America/Los_Angeles:20290109T190000
DTEND;TZID=America/Los_Angeles:20290109T200000
DTSTAMP:20260423T045216
CREATED:20210726T003116Z
LAST-MODIFIED:20260126T010320Z
UID:10000330-1862679600-1862683200@www.scvatheists.com
SUMMARY:Dear Leader's Meeting
DESCRIPTION:
URL:https://www.scvatheists.com/event/dear-leaders-meeting/2029-01-09/
LOCATION:Virtual Meeting
CATEGORIES:Board Meeting
END:VEVENT
BEGIN:VEVENT
DTSTART;TZID=America/Los_Angeles:20290113T103000
DTEND;TZID=America/Los_Angeles:20290113T130000
DTSTAMP:20260423T045216
CREATED:20250910T003152Z
LAST-MODIFIED:20260126T005037Z
UID:10000053-1862994600-1863003600@www.scvatheists.com
SUMMARY:General Meeting
DESCRIPTION:Join our meetup for atheists\, freethinkers\, skeptics\, and those who just need a break from the largely theistic world. We get together for fellowship and discussion on the second Saturday of every month. Come join us! \nYou are welcome to ask questions if you are interested in the group\, or interested in learning more about atheism\, freethinking\, or skepticism. Religious people with a sincere interest in understanding us are welcome\, BUT please\, no proselytizing\, preaching\, or drive-by condemning. Uncivil or threatening behavior from anyone of any viewpoint will not be tolerated. If you wish to discuss something privately and confidentially\, contact one the group leaders by way of a private message. \nWe have regular monthly meetings where we provide confidential mutual support for nonbelievers living in a sometimes hostile environment. Family\, friends\, and co-workers are often unwilling to understand or accept our lack of belief in deities or the supernatural. We discuss pertinent issues in science\, politics\, and religion\, and generally enjoy being able to speak freely with each other. \nWe also work to improve the reputation of atheists in general and participate constructively in our local community through outreach efforts such as feeding the homeless\, participating in the annual River Rally\, Walk to End Alzheimer’s\, manning an information booth at appropriate community events in the SCV\, and sending representatives to interfaith events locally and in the greater Los Angeles area. \nIf you have questions\, please email Duncan Mandel at chairperson@scvatheists.com
URL:https://www.scvatheists.com/event/general-meeting/2029-01-13/
LOCATION:Stevenson Ranch Library\, 25950 The Old Rd.\, Stevenson Ranch\, CA\, 91381
CATEGORIES:General Meeting
ATTACH;FMTTYPE=image/jpeg:https://www.scvatheists.com/wp-content/uploads/2025/09/476353330_10233323083272552_5758454243684238861_n.jpg
END:VEVENT
BEGIN:VEVENT
DTSTART;TZID=America/Los_Angeles:20290115T183000
DTEND;TZID=America/Los_Angeles:20290115T210000
DTSTAMP:20260423T045216
CREATED:20250910T003159Z
LAST-MODIFIED:20260126T005533Z
UID:10000227-1863196200-1863205200@www.scvatheists.com
SUMMARY:Critical Drinking
DESCRIPTION:
URL:https://www.scvatheists.com/event/critical-drinking-2/2029-01-15/
LOCATION:Brewery Draconum\, 24407 Main St\, Santa Clarita\, 91321
CATEGORIES:Social
ATTACH;FMTTYPE=image/jpeg:https://www.scvatheists.com/wp-content/uploads/2025/09/492043085_10234159201574987_3090722750235637332_n.jpg
END:VEVENT
BEGIN:VEVENT
DTSTART;TZID=America/Los_Angeles:20290123T190000
DTEND;TZID=America/Los_Angeles:20290123T200000
DTSTAMP:20260423T045216
CREATED:20210726T003116Z
LAST-MODIFIED:20260126T010320Z
UID:10000331-1863889200-1863892800@www.scvatheists.com
SUMMARY:Dear Leader's Meeting
DESCRIPTION:
URL:https://www.scvatheists.com/event/dear-leaders-meeting/2029-01-23/
LOCATION:Virtual Meeting
CATEGORIES:Board Meeting
END:VEVENT
BEGIN:VEVENT
DTSTART;TZID=America/Los_Angeles:20290128T110000
DTEND;TZID=America/Los_Angeles:20290128T130000
DTSTAMP:20260423T045216
CREATED:20250910T003201Z
LAST-MODIFIED:20260126T004758Z
UID:10000165-1864292400-1864299600@www.scvatheists.com
SUMMARY:Sunday Brunch
DESCRIPTION:
URL:https://www.scvatheists.com/event/sunday-brunch/2029-01-28/
LOCATION:Wolf Creek Restaurant\, 27746 McBean Pkwy\, Valencia\, 91354
CATEGORIES:Social
ATTACH;FMTTYPE=image/jpeg:https://www.scvatheists.com/wp-content/uploads/2025/09/476221463_10233323160314478_7684150002679682813_n.jpg
END:VEVENT
BEGIN:VEVENT
DTSTART;TZID=America/Los_Angeles:20290206T190000
DTEND;TZID=America/Los_Angeles:20290206T200000
DTSTAMP:20260423T045216
CREATED:20210726T003116Z
LAST-MODIFIED:20260126T010320Z
UID:10000332-1865098800-1865102400@www.scvatheists.com
SUMMARY:Dear Leader's Meeting
DESCRIPTION:
URL:https://www.scvatheists.com/event/dear-leaders-meeting/2029-02-06/
LOCATION:Virtual Meeting
CATEGORIES:Board Meeting
END:VEVENT
END:VCALENDAR