BEGIN:VCALENDAR
VERSION:2.0
PRODID:-//Santa Clarita Atheists &amp; Freethinkers - ECPv6.15.20//NONSGML v1.0//EN
CALSCALE:GREGORIAN
METHOD:PUBLISH
X-ORIGINAL-URL:https://www.scvatheists.com
X-WR-CALDESC:Events for Santa Clarita Atheists &amp; Freethinkers
REFRESH-INTERVAL;VALUE=DURATION:PT1H
X-Robots-Tag:noindex
X-PUBLISHED-TTL:PT1H
BEGIN:VTIMEZONE
TZID:America/Los_Angeles
BEGIN:DAYLIGHT
TZOFFSETFROM:-0800
TZOFFSETTO:-0700
TZNAME:PDT
DTSTART:20270314T100000
END:DAYLIGHT
BEGIN:STANDARD
TZOFFSETFROM:-0700
TZOFFSETTO:-0800
TZNAME:PST
DTSTART:20271107T090000
END:STANDARD
BEGIN:DAYLIGHT
TZOFFSETFROM:-0800
TZOFFSETTO:-0700
TZNAME:PDT
DTSTART:20280312T100000
END:DAYLIGHT
BEGIN:STANDARD
TZOFFSETFROM:-0700
TZOFFSETTO:-0800
TZNAME:PST
DTSTART:20281105T090000
END:STANDARD
BEGIN:DAYLIGHT
TZOFFSETFROM:-0800
TZOFFSETTO:-0700
TZNAME:PDT
DTSTART:20290311T100000
END:DAYLIGHT
BEGIN:STANDARD
TZOFFSETFROM:-0700
TZOFFSETTO:-0800
TZNAME:PST
DTSTART:20291104T090000
END:STANDARD
END:VTIMEZONE
BEGIN:VEVENT
DTSTART;TZID=America/Los_Angeles:20280108T103000
DTEND;TZID=America/Los_Angeles:20280108T130000
DTSTAMP:20260422T203219
CREATED:20250910T003152Z
LAST-MODIFIED:20260126T005037Z
UID:10000041-1830940200-1830949200@www.scvatheists.com
SUMMARY:General Meeting
DESCRIPTION:Join our meetup for atheists\, freethinkers\, skeptics\, and those who just need a break from the largely theistic world. We get together for fellowship and discussion on the second Saturday of every month. Come join us! \nYou are welcome to ask questions if you are interested in the group\, or interested in learning more about atheism\, freethinking\, or skepticism. Religious people with a sincere interest in understanding us are welcome\, BUT please\, no proselytizing\, preaching\, or drive-by condemning. Uncivil or threatening behavior from anyone of any viewpoint will not be tolerated. If you wish to discuss something privately and confidentially\, contact one the group leaders by way of a private message. \nWe have regular monthly meetings where we provide confidential mutual support for nonbelievers living in a sometimes hostile environment. Family\, friends\, and co-workers are often unwilling to understand or accept our lack of belief in deities or the supernatural. We discuss pertinent issues in science\, politics\, and religion\, and generally enjoy being able to speak freely with each other. \nWe also work to improve the reputation of atheists in general and participate constructively in our local community through outreach efforts such as feeding the homeless\, participating in the annual River Rally\, Walk to End Alzheimer’s\, manning an information booth at appropriate community events in the SCV\, and sending representatives to interfaith events locally and in the greater Los Angeles area. \nIf you have questions\, please email Duncan Mandel at chairperson@scvatheists.com
URL:https://www.scvatheists.com/event/general-meeting/2028-01-08/
LOCATION:Stevenson Ranch Library\, 25950 The Old Rd.\, Stevenson Ranch\, CA\, 91381
CATEGORIES:General Meeting
ATTACH;FMTTYPE=image/jpeg:https://www.scvatheists.com/wp-content/uploads/2025/09/476353330_10233323083272552_5758454243684238861_n.jpg
END:VEVENT
BEGIN:VEVENT
DTSTART;TZID=America/Los_Angeles:20280111T190000
DTEND;TZID=America/Los_Angeles:20280111T200000
DTSTAMP:20260422T203219
CREATED:20210726T003116Z
LAST-MODIFIED:20260126T010320Z
UID:10000304-1831230000-1831233600@www.scvatheists.com
SUMMARY:Dear Leader's Meeting
DESCRIPTION:
URL:https://www.scvatheists.com/event/dear-leaders-meeting/2028-01-11/
LOCATION:Virtual Meeting
CATEGORIES:Board Meeting
END:VEVENT
BEGIN:VEVENT
DTSTART;TZID=America/Los_Angeles:20280117T183000
DTEND;TZID=America/Los_Angeles:20280117T210000
DTSTAMP:20260422T203219
CREATED:20250910T003159Z
LAST-MODIFIED:20260126T005533Z
UID:10000215-1831746600-1831755600@www.scvatheists.com
SUMMARY:Critical Drinking
DESCRIPTION:
URL:https://www.scvatheists.com/event/critical-drinking-2/2028-01-17/
LOCATION:Brewery Draconum\, 24407 Main St\, Santa Clarita\, 91321
CATEGORIES:Social
ATTACH;FMTTYPE=image/jpeg:https://www.scvatheists.com/wp-content/uploads/2025/09/492043085_10234159201574987_3090722750235637332_n.jpg
END:VEVENT
BEGIN:VEVENT
DTSTART;TZID=America/Los_Angeles:20280123T110000
DTEND;TZID=America/Los_Angeles:20280123T130000
DTSTAMP:20260422T203219
CREATED:20250910T003201Z
LAST-MODIFIED:20260126T004758Z
UID:10000153-1832238000-1832245200@www.scvatheists.com
SUMMARY:Sunday Brunch
DESCRIPTION:
URL:https://www.scvatheists.com/event/sunday-brunch/2028-01-23/
LOCATION:Wolf Creek Restaurant\, 27746 McBean Pkwy\, Valencia\, 91354
CATEGORIES:Social
ATTACH;FMTTYPE=image/jpeg:https://www.scvatheists.com/wp-content/uploads/2025/09/476221463_10233323160314478_7684150002679682813_n.jpg
END:VEVENT
BEGIN:VEVENT
DTSTART;TZID=America/Los_Angeles:20280125T190000
DTEND;TZID=America/Los_Angeles:20280125T200000
DTSTAMP:20260422T203219
CREATED:20210726T003116Z
LAST-MODIFIED:20260126T010320Z
UID:10000305-1832439600-1832443200@www.scvatheists.com
SUMMARY:Dear Leader's Meeting
DESCRIPTION:
URL:https://www.scvatheists.com/event/dear-leaders-meeting/2028-01-25/
LOCATION:Virtual Meeting
CATEGORIES:Board Meeting
END:VEVENT
BEGIN:VEVENT
DTSTART;TZID=America/Los_Angeles:20280208T190000
DTEND;TZID=America/Los_Angeles:20280208T200000
DTSTAMP:20260422T203219
CREATED:20210726T003116Z
LAST-MODIFIED:20260126T010320Z
UID:10000306-1833649200-1833652800@www.scvatheists.com
SUMMARY:Dear Leader's Meeting
DESCRIPTION:
URL:https://www.scvatheists.com/event/dear-leaders-meeting/2028-02-08/
LOCATION:Virtual Meeting
CATEGORIES:Board Meeting
END:VEVENT
BEGIN:VEVENT
DTSTART;TZID=America/Los_Angeles:20280212T103000
DTEND;TZID=America/Los_Angeles:20280212T130000
DTSTAMP:20260422T203219
CREATED:20250910T003152Z
LAST-MODIFIED:20260126T005037Z
UID:10000042-1833964200-1833973200@www.scvatheists.com
SUMMARY:General Meeting
DESCRIPTION:Join our meetup for atheists\, freethinkers\, skeptics\, and those who just need a break from the largely theistic world. We get together for fellowship and discussion on the second Saturday of every month. Come join us! \nYou are welcome to ask questions if you are interested in the group\, or interested in learning more about atheism\, freethinking\, or skepticism. Religious people with a sincere interest in understanding us are welcome\, BUT please\, no proselytizing\, preaching\, or drive-by condemning. Uncivil or threatening behavior from anyone of any viewpoint will not be tolerated. If you wish to discuss something privately and confidentially\, contact one the group leaders by way of a private message. \nWe have regular monthly meetings where we provide confidential mutual support for nonbelievers living in a sometimes hostile environment. Family\, friends\, and co-workers are often unwilling to understand or accept our lack of belief in deities or the supernatural. We discuss pertinent issues in science\, politics\, and religion\, and generally enjoy being able to speak freely with each other. \nWe also work to improve the reputation of atheists in general and participate constructively in our local community through outreach efforts such as feeding the homeless\, participating in the annual River Rally\, Walk to End Alzheimer’s\, manning an information booth at appropriate community events in the SCV\, and sending representatives to interfaith events locally and in the greater Los Angeles area. \nIf you have questions\, please email Duncan Mandel at chairperson@scvatheists.com
URL:https://www.scvatheists.com/event/general-meeting/2028-02-12/
LOCATION:Stevenson Ranch Library\, 25950 The Old Rd.\, Stevenson Ranch\, CA\, 91381
CATEGORIES:General Meeting
ATTACH;FMTTYPE=image/jpeg:https://www.scvatheists.com/wp-content/uploads/2025/09/476353330_10233323083272552_5758454243684238861_n.jpg
END:VEVENT
BEGIN:VEVENT
DTSTART;TZID=America/Los_Angeles:20280221T183000
DTEND;TZID=America/Los_Angeles:20280221T210000
DTSTAMP:20260422T203219
CREATED:20250910T003159Z
LAST-MODIFIED:20260126T005533Z
UID:10000216-1834770600-1834779600@www.scvatheists.com
SUMMARY:Critical Drinking
DESCRIPTION:
URL:https://www.scvatheists.com/event/critical-drinking-2/2028-02-21/
LOCATION:Brewery Draconum\, 24407 Main St\, Santa Clarita\, 91321
CATEGORIES:Social
ATTACH;FMTTYPE=image/jpeg:https://www.scvatheists.com/wp-content/uploads/2025/09/492043085_10234159201574987_3090722750235637332_n.jpg
END:VEVENT
BEGIN:VEVENT
DTSTART;TZID=America/Los_Angeles:20280222T190000
DTEND;TZID=America/Los_Angeles:20280222T200000
DTSTAMP:20260422T203219
CREATED:20210726T003116Z
LAST-MODIFIED:20260126T010320Z
UID:10000307-1834858800-1834862400@www.scvatheists.com
SUMMARY:Dear Leader's Meeting
DESCRIPTION:
URL:https://www.scvatheists.com/event/dear-leaders-meeting/2028-02-22/
LOCATION:Virtual Meeting
CATEGORIES:Board Meeting
END:VEVENT
BEGIN:VEVENT
DTSTART;TZID=America/Los_Angeles:20280227T110000
DTEND;TZID=America/Los_Angeles:20280227T130000
DTSTAMP:20260422T203219
CREATED:20250910T003201Z
LAST-MODIFIED:20260126T004758Z
UID:10000154-1835262000-1835269200@www.scvatheists.com
SUMMARY:Sunday Brunch
DESCRIPTION:
URL:https://www.scvatheists.com/event/sunday-brunch/2028-02-27/
LOCATION:Wolf Creek Restaurant\, 27746 McBean Pkwy\, Valencia\, 91354
CATEGORIES:Social
ATTACH;FMTTYPE=image/jpeg:https://www.scvatheists.com/wp-content/uploads/2025/09/476221463_10233323160314478_7684150002679682813_n.jpg
END:VEVENT
BEGIN:VEVENT
DTSTART;TZID=America/Los_Angeles:20280307T190000
DTEND;TZID=America/Los_Angeles:20280307T200000
DTSTAMP:20260422T203219
CREATED:20210726T003116Z
LAST-MODIFIED:20260126T010320Z
UID:10000308-1836068400-1836072000@www.scvatheists.com
SUMMARY:Dear Leader's Meeting
DESCRIPTION:
URL:https://www.scvatheists.com/event/dear-leaders-meeting/2028-03-07/
LOCATION:Virtual Meeting
CATEGORIES:Board Meeting
END:VEVENT
BEGIN:VEVENT
DTSTART;TZID=America/Los_Angeles:20280311T103000
DTEND;TZID=America/Los_Angeles:20280311T130000
DTSTAMP:20260422T203219
CREATED:20250910T003152Z
LAST-MODIFIED:20260126T005037Z
UID:10000043-1836383400-1836392400@www.scvatheists.com
SUMMARY:General Meeting
DESCRIPTION:Join our meetup for atheists\, freethinkers\, skeptics\, and those who just need a break from the largely theistic world. We get together for fellowship and discussion on the second Saturday of every month. Come join us! \nYou are welcome to ask questions if you are interested in the group\, or interested in learning more about atheism\, freethinking\, or skepticism. Religious people with a sincere interest in understanding us are welcome\, BUT please\, no proselytizing\, preaching\, or drive-by condemning. Uncivil or threatening behavior from anyone of any viewpoint will not be tolerated. If you wish to discuss something privately and confidentially\, contact one the group leaders by way of a private message. \nWe have regular monthly meetings where we provide confidential mutual support for nonbelievers living in a sometimes hostile environment. Family\, friends\, and co-workers are often unwilling to understand or accept our lack of belief in deities or the supernatural. We discuss pertinent issues in science\, politics\, and religion\, and generally enjoy being able to speak freely with each other. \nWe also work to improve the reputation of atheists in general and participate constructively in our local community through outreach efforts such as feeding the homeless\, participating in the annual River Rally\, Walk to End Alzheimer’s\, manning an information booth at appropriate community events in the SCV\, and sending representatives to interfaith events locally and in the greater Los Angeles area. \nIf you have questions\, please email Duncan Mandel at chairperson@scvatheists.com
URL:https://www.scvatheists.com/event/general-meeting/2028-03-11/
LOCATION:Stevenson Ranch Library\, 25950 The Old Rd.\, Stevenson Ranch\, CA\, 91381
CATEGORIES:General Meeting
ATTACH;FMTTYPE=image/jpeg:https://www.scvatheists.com/wp-content/uploads/2025/09/476353330_10233323083272552_5758454243684238861_n.jpg
END:VEVENT
BEGIN:VEVENT
DTSTART;TZID=America/Los_Angeles:20280320T183000
DTEND;TZID=America/Los_Angeles:20280320T210000
DTSTAMP:20260422T203219
CREATED:20250910T003159Z
LAST-MODIFIED:20260126T005533Z
UID:10000217-1837189800-1837198800@www.scvatheists.com
SUMMARY:Critical Drinking
DESCRIPTION:
URL:https://www.scvatheists.com/event/critical-drinking-2/2028-03-20/
LOCATION:Brewery Draconum\, 24407 Main St\, Santa Clarita\, 91321
CATEGORIES:Social
ATTACH;FMTTYPE=image/jpeg:https://www.scvatheists.com/wp-content/uploads/2025/09/492043085_10234159201574987_3090722750235637332_n.jpg
END:VEVENT
BEGIN:VEVENT
DTSTART;TZID=America/Los_Angeles:20280321T190000
DTEND;TZID=America/Los_Angeles:20280321T200000
DTSTAMP:20260422T203219
CREATED:20210726T003116Z
LAST-MODIFIED:20260126T010320Z
UID:10000309-1837278000-1837281600@www.scvatheists.com
SUMMARY:Dear Leader's Meeting
DESCRIPTION:
URL:https://www.scvatheists.com/event/dear-leaders-meeting/2028-03-21/
LOCATION:Virtual Meeting
CATEGORIES:Board Meeting
END:VEVENT
BEGIN:VEVENT
DTSTART;TZID=America/Los_Angeles:20280326T110000
DTEND;TZID=America/Los_Angeles:20280326T130000
DTSTAMP:20260422T203219
CREATED:20250910T003201Z
LAST-MODIFIED:20260126T004758Z
UID:10000155-1837681200-1837688400@www.scvatheists.com
SUMMARY:Sunday Brunch
DESCRIPTION:
URL:https://www.scvatheists.com/event/sunday-brunch/2028-03-26/
LOCATION:Wolf Creek Restaurant\, 27746 McBean Pkwy\, Valencia\, 91354
CATEGORIES:Social
ATTACH;FMTTYPE=image/jpeg:https://www.scvatheists.com/wp-content/uploads/2025/09/476221463_10233323160314478_7684150002679682813_n.jpg
END:VEVENT
BEGIN:VEVENT
DTSTART;TZID=America/Los_Angeles:20280404T190000
DTEND;TZID=America/Los_Angeles:20280404T200000
DTSTAMP:20260422T203219
CREATED:20210726T003116Z
LAST-MODIFIED:20260126T010320Z
UID:10000310-1838487600-1838491200@www.scvatheists.com
SUMMARY:Dear Leader's Meeting
DESCRIPTION:
URL:https://www.scvatheists.com/event/dear-leaders-meeting/2028-04-04/
LOCATION:Virtual Meeting
CATEGORIES:Board Meeting
END:VEVENT
BEGIN:VEVENT
DTSTART;TZID=America/Los_Angeles:20280408T103000
DTEND;TZID=America/Los_Angeles:20280408T130000
DTSTAMP:20260422T203219
CREATED:20250910T003152Z
LAST-MODIFIED:20260126T005037Z
UID:10000044-1838802600-1838811600@www.scvatheists.com
SUMMARY:General Meeting
DESCRIPTION:Join our meetup for atheists\, freethinkers\, skeptics\, and those who just need a break from the largely theistic world. We get together for fellowship and discussion on the second Saturday of every month. Come join us! \nYou are welcome to ask questions if you are interested in the group\, or interested in learning more about atheism\, freethinking\, or skepticism. Religious people with a sincere interest in understanding us are welcome\, BUT please\, no proselytizing\, preaching\, or drive-by condemning. Uncivil or threatening behavior from anyone of any viewpoint will not be tolerated. If you wish to discuss something privately and confidentially\, contact one the group leaders by way of a private message. \nWe have regular monthly meetings where we provide confidential mutual support for nonbelievers living in a sometimes hostile environment. Family\, friends\, and co-workers are often unwilling to understand or accept our lack of belief in deities or the supernatural. We discuss pertinent issues in science\, politics\, and religion\, and generally enjoy being able to speak freely with each other. \nWe also work to improve the reputation of atheists in general and participate constructively in our local community through outreach efforts such as feeding the homeless\, participating in the annual River Rally\, Walk to End Alzheimer’s\, manning an information booth at appropriate community events in the SCV\, and sending representatives to interfaith events locally and in the greater Los Angeles area. \nIf you have questions\, please email Duncan Mandel at chairperson@scvatheists.com
URL:https://www.scvatheists.com/event/general-meeting/2028-04-08/
LOCATION:Stevenson Ranch Library\, 25950 The Old Rd.\, Stevenson Ranch\, CA\, 91381
CATEGORIES:General Meeting
ATTACH;FMTTYPE=image/jpeg:https://www.scvatheists.com/wp-content/uploads/2025/09/476353330_10233323083272552_5758454243684238861_n.jpg
END:VEVENT
BEGIN:VEVENT
DTSTART;TZID=America/Los_Angeles:20280417T183000
DTEND;TZID=America/Los_Angeles:20280417T210000
DTSTAMP:20260422T203219
CREATED:20250910T003159Z
LAST-MODIFIED:20260126T005533Z
UID:10000218-1839609000-1839618000@www.scvatheists.com
SUMMARY:Critical Drinking
DESCRIPTION:
URL:https://www.scvatheists.com/event/critical-drinking-2/2028-04-17/
LOCATION:Brewery Draconum\, 24407 Main St\, Santa Clarita\, 91321
CATEGORIES:Social
ATTACH;FMTTYPE=image/jpeg:https://www.scvatheists.com/wp-content/uploads/2025/09/492043085_10234159201574987_3090722750235637332_n.jpg
END:VEVENT
BEGIN:VEVENT
DTSTART;TZID=America/Los_Angeles:20280418T190000
DTEND;TZID=America/Los_Angeles:20280418T200000
DTSTAMP:20260422T203219
CREATED:20210726T003116Z
LAST-MODIFIED:20260126T010320Z
UID:10000311-1839697200-1839700800@www.scvatheists.com
SUMMARY:Dear Leader's Meeting
DESCRIPTION:
URL:https://www.scvatheists.com/event/dear-leaders-meeting/2028-04-18/
LOCATION:Virtual Meeting
CATEGORIES:Board Meeting
END:VEVENT
BEGIN:VEVENT
DTSTART;TZID=America/Los_Angeles:20280423T110000
DTEND;TZID=America/Los_Angeles:20280423T130000
DTSTAMP:20260422T203219
CREATED:20250910T003201Z
LAST-MODIFIED:20260126T004758Z
UID:10000156-1840100400-1840107600@www.scvatheists.com
SUMMARY:Sunday Brunch
DESCRIPTION:
URL:https://www.scvatheists.com/event/sunday-brunch/2028-04-23/
LOCATION:Wolf Creek Restaurant\, 27746 McBean Pkwy\, Valencia\, 91354
CATEGORIES:Social
ATTACH;FMTTYPE=image/jpeg:https://www.scvatheists.com/wp-content/uploads/2025/09/476221463_10233323160314478_7684150002679682813_n.jpg
END:VEVENT
BEGIN:VEVENT
DTSTART;TZID=America/Los_Angeles:20280502T190000
DTEND;TZID=America/Los_Angeles:20280502T200000
DTSTAMP:20260422T203219
CREATED:20210726T003116Z
LAST-MODIFIED:20260126T010320Z
UID:10000312-1840906800-1840910400@www.scvatheists.com
SUMMARY:Dear Leader's Meeting
DESCRIPTION:
URL:https://www.scvatheists.com/event/dear-leaders-meeting/2028-05-02/
LOCATION:Virtual Meeting
CATEGORIES:Board Meeting
END:VEVENT
BEGIN:VEVENT
DTSTART;TZID=America/Los_Angeles:20280513T103000
DTEND;TZID=America/Los_Angeles:20280513T130000
DTSTAMP:20260422T203219
CREATED:20250910T003152Z
LAST-MODIFIED:20260126T005037Z
UID:10000045-1841826600-1841835600@www.scvatheists.com
SUMMARY:General Meeting
DESCRIPTION:Join our meetup for atheists\, freethinkers\, skeptics\, and those who just need a break from the largely theistic world. We get together for fellowship and discussion on the second Saturday of every month. Come join us! \nYou are welcome to ask questions if you are interested in the group\, or interested in learning more about atheism\, freethinking\, or skepticism. Religious people with a sincere interest in understanding us are welcome\, BUT please\, no proselytizing\, preaching\, or drive-by condemning. Uncivil or threatening behavior from anyone of any viewpoint will not be tolerated. If you wish to discuss something privately and confidentially\, contact one the group leaders by way of a private message. \nWe have regular monthly meetings where we provide confidential mutual support for nonbelievers living in a sometimes hostile environment. Family\, friends\, and co-workers are often unwilling to understand or accept our lack of belief in deities or the supernatural. We discuss pertinent issues in science\, politics\, and religion\, and generally enjoy being able to speak freely with each other. \nWe also work to improve the reputation of atheists in general and participate constructively in our local community through outreach efforts such as feeding the homeless\, participating in the annual River Rally\, Walk to End Alzheimer’s\, manning an information booth at appropriate community events in the SCV\, and sending representatives to interfaith events locally and in the greater Los Angeles area. \nIf you have questions\, please email Duncan Mandel at chairperson@scvatheists.com
URL:https://www.scvatheists.com/event/general-meeting/2028-05-13/
LOCATION:Stevenson Ranch Library\, 25950 The Old Rd.\, Stevenson Ranch\, CA\, 91381
CATEGORIES:General Meeting
ATTACH;FMTTYPE=image/jpeg:https://www.scvatheists.com/wp-content/uploads/2025/09/476353330_10233323083272552_5758454243684238861_n.jpg
END:VEVENT
BEGIN:VEVENT
DTSTART;TZID=America/Los_Angeles:20280515T183000
DTEND;TZID=America/Los_Angeles:20280515T210000
DTSTAMP:20260422T203219
CREATED:20250910T003159Z
LAST-MODIFIED:20260126T005533Z
UID:10000219-1842028200-1842037200@www.scvatheists.com
SUMMARY:Critical Drinking
DESCRIPTION:
URL:https://www.scvatheists.com/event/critical-drinking-2/2028-05-15/
LOCATION:Brewery Draconum\, 24407 Main St\, Santa Clarita\, 91321
CATEGORIES:Social
ATTACH;FMTTYPE=image/jpeg:https://www.scvatheists.com/wp-content/uploads/2025/09/492043085_10234159201574987_3090722750235637332_n.jpg
END:VEVENT
BEGIN:VEVENT
DTSTART;TZID=America/Los_Angeles:20280516T190000
DTEND;TZID=America/Los_Angeles:20280516T200000
DTSTAMP:20260422T203219
CREATED:20210726T003116Z
LAST-MODIFIED:20260126T010320Z
UID:10000313-1842116400-1842120000@www.scvatheists.com
SUMMARY:Dear Leader's Meeting
DESCRIPTION:
URL:https://www.scvatheists.com/event/dear-leaders-meeting/2028-05-16/
LOCATION:Virtual Meeting
CATEGORIES:Board Meeting
END:VEVENT
BEGIN:VEVENT
DTSTART;TZID=America/Los_Angeles:20280528T110000
DTEND;TZID=America/Los_Angeles:20280528T130000
DTSTAMP:20260422T203219
CREATED:20250910T003201Z
LAST-MODIFIED:20260126T004758Z
UID:10000157-1843124400-1843131600@www.scvatheists.com
SUMMARY:Sunday Brunch
DESCRIPTION:
URL:https://www.scvatheists.com/event/sunday-brunch/2028-05-28/
LOCATION:Wolf Creek Restaurant\, 27746 McBean Pkwy\, Valencia\, 91354
CATEGORIES:Social
ATTACH;FMTTYPE=image/jpeg:https://www.scvatheists.com/wp-content/uploads/2025/09/476221463_10233323160314478_7684150002679682813_n.jpg
END:VEVENT
BEGIN:VEVENT
DTSTART;TZID=America/Los_Angeles:20280530T190000
DTEND;TZID=America/Los_Angeles:20280530T200000
DTSTAMP:20260422T203219
CREATED:20210726T003116Z
LAST-MODIFIED:20260126T010320Z
UID:10000314-1843326000-1843329600@www.scvatheists.com
SUMMARY:Dear Leader's Meeting
DESCRIPTION:
URL:https://www.scvatheists.com/event/dear-leaders-meeting/2028-05-30/
LOCATION:Virtual Meeting
CATEGORIES:Board Meeting
END:VEVENT
BEGIN:VEVENT
DTSTART;TZID=America/Los_Angeles:20280610T103000
DTEND;TZID=America/Los_Angeles:20280610T130000
DTSTAMP:20260422T203219
CREATED:20250910T003152Z
LAST-MODIFIED:20260126T005037Z
UID:10000046-1844245800-1844254800@www.scvatheists.com
SUMMARY:General Meeting
DESCRIPTION:Join our meetup for atheists\, freethinkers\, skeptics\, and those who just need a break from the largely theistic world. We get together for fellowship and discussion on the second Saturday of every month. Come join us! \nYou are welcome to ask questions if you are interested in the group\, or interested in learning more about atheism\, freethinking\, or skepticism. Religious people with a sincere interest in understanding us are welcome\, BUT please\, no proselytizing\, preaching\, or drive-by condemning. Uncivil or threatening behavior from anyone of any viewpoint will not be tolerated. If you wish to discuss something privately and confidentially\, contact one the group leaders by way of a private message. \nWe have regular monthly meetings where we provide confidential mutual support for nonbelievers living in a sometimes hostile environment. Family\, friends\, and co-workers are often unwilling to understand or accept our lack of belief in deities or the supernatural. We discuss pertinent issues in science\, politics\, and religion\, and generally enjoy being able to speak freely with each other. \nWe also work to improve the reputation of atheists in general and participate constructively in our local community through outreach efforts such as feeding the homeless\, participating in the annual River Rally\, Walk to End Alzheimer’s\, manning an information booth at appropriate community events in the SCV\, and sending representatives to interfaith events locally and in the greater Los Angeles area. \nIf you have questions\, please email Duncan Mandel at chairperson@scvatheists.com
URL:https://www.scvatheists.com/event/general-meeting/2028-06-10/
LOCATION:Stevenson Ranch Library\, 25950 The Old Rd.\, Stevenson Ranch\, CA\, 91381
CATEGORIES:General Meeting
ATTACH;FMTTYPE=image/jpeg:https://www.scvatheists.com/wp-content/uploads/2025/09/476353330_10233323083272552_5758454243684238861_n.jpg
END:VEVENT
BEGIN:VEVENT
DTSTART;TZID=America/Los_Angeles:20280613T190000
DTEND;TZID=America/Los_Angeles:20280613T200000
DTSTAMP:20260422T203219
CREATED:20210726T003116Z
LAST-MODIFIED:20260126T010320Z
UID:10000315-1844535600-1844539200@www.scvatheists.com
SUMMARY:Dear Leader's Meeting
DESCRIPTION:
URL:https://www.scvatheists.com/event/dear-leaders-meeting/2028-06-13/
LOCATION:Virtual Meeting
CATEGORIES:Board Meeting
END:VEVENT
BEGIN:VEVENT
DTSTART;TZID=America/Los_Angeles:20280619T183000
DTEND;TZID=America/Los_Angeles:20280619T210000
DTSTAMP:20260422T203219
CREATED:20250910T003159Z
LAST-MODIFIED:20260126T005533Z
UID:10000220-1845052200-1845061200@www.scvatheists.com
SUMMARY:Critical Drinking
DESCRIPTION:
URL:https://www.scvatheists.com/event/critical-drinking-2/2028-06-19/
LOCATION:Brewery Draconum\, 24407 Main St\, Santa Clarita\, 91321
CATEGORIES:Social
ATTACH;FMTTYPE=image/jpeg:https://www.scvatheists.com/wp-content/uploads/2025/09/492043085_10234159201574987_3090722750235637332_n.jpg
END:VEVENT
BEGIN:VEVENT
DTSTART;TZID=America/Los_Angeles:20280625T110000
DTEND;TZID=America/Los_Angeles:20280625T130000
DTSTAMP:20260422T203219
CREATED:20250910T003201Z
LAST-MODIFIED:20260126T004758Z
UID:10000158-1845543600-1845550800@www.scvatheists.com
SUMMARY:Sunday Brunch
DESCRIPTION:
URL:https://www.scvatheists.com/event/sunday-brunch/2028-06-25/
LOCATION:Wolf Creek Restaurant\, 27746 McBean Pkwy\, Valencia\, 91354
CATEGORIES:Social
ATTACH;FMTTYPE=image/jpeg:https://www.scvatheists.com/wp-content/uploads/2025/09/476221463_10233323160314478_7684150002679682813_n.jpg
END:VEVENT
END:VCALENDAR