BEGIN:VCALENDAR
VERSION:2.0
PRODID:-//Santa Clarita Atheists &amp; Freethinkers - ECPv6.15.20//NONSGML v1.0//EN
CALSCALE:GREGORIAN
METHOD:PUBLISH
X-ORIGINAL-URL:https://www.scvatheists.com
X-WR-CALDESC:Events for Santa Clarita Atheists &amp; Freethinkers
REFRESH-INTERVAL;VALUE=DURATION:PT1H
X-Robots-Tag:noindex
X-PUBLISHED-TTL:PT1H
BEGIN:VTIMEZONE
TZID:America/Los_Angeles
BEGIN:DAYLIGHT
TZOFFSETFROM:-0800
TZOFFSETTO:-0700
TZNAME:PDT
DTSTART:20250309T100000
END:DAYLIGHT
BEGIN:STANDARD
TZOFFSETFROM:-0700
TZOFFSETTO:-0800
TZNAME:PST
DTSTART:20251102T090000
END:STANDARD
BEGIN:DAYLIGHT
TZOFFSETFROM:-0800
TZOFFSETTO:-0700
TZNAME:PDT
DTSTART:20260308T100000
END:DAYLIGHT
BEGIN:STANDARD
TZOFFSETFROM:-0700
TZOFFSETTO:-0800
TZNAME:PST
DTSTART:20261101T090000
END:STANDARD
BEGIN:DAYLIGHT
TZOFFSETFROM:-0800
TZOFFSETTO:-0700
TZNAME:PDT
DTSTART:20270314T100000
END:DAYLIGHT
BEGIN:STANDARD
TZOFFSETFROM:-0700
TZOFFSETTO:-0800
TZNAME:PST
DTSTART:20271107T090000
END:STANDARD
END:VTIMEZONE
BEGIN:VEVENT
DTSTART;TZID=America/Los_Angeles:20260407T190000
DTEND;TZID=America/Los_Angeles:20260407T200000
DTSTAMP:20260419T201948
CREATED:20210726T003116Z
LAST-MODIFIED:20260126T010320Z
UID:10000258-1775588400-1775592000@www.scvatheists.com
SUMMARY:Dear Leader's Meeting
DESCRIPTION:
URL:https://www.scvatheists.com/event/dear-leaders-meeting/2026-04-07/
LOCATION:Virtual Meeting
CATEGORIES:Board Meeting
END:VEVENT
BEGIN:VEVENT
DTSTART;TZID=America/Los_Angeles:20260324T190000
DTEND;TZID=America/Los_Angeles:20260324T200000
DTSTAMP:20260419T201948
CREATED:20210726T003116Z
LAST-MODIFIED:20260126T010320Z
UID:10000257-1774378800-1774382400@www.scvatheists.com
SUMMARY:Dear Leader's Meeting
DESCRIPTION:
URL:https://www.scvatheists.com/event/dear-leaders-meeting/2026-03-24/
LOCATION:Virtual Meeting
CATEGORIES:Board Meeting
END:VEVENT
BEGIN:VEVENT
DTSTART;TZID=America/Los_Angeles:20260322T110000
DTEND;TZID=America/Los_Angeles:20260322T130000
DTSTAMP:20260419T201948
CREATED:20250910T003201Z
LAST-MODIFIED:20260126T004758Z
UID:10000131-1774177200-1774184400@www.scvatheists.com
SUMMARY:Sunday Brunch
DESCRIPTION:
URL:https://www.scvatheists.com/event/sunday-brunch/2026-03-22/
LOCATION:Wolf Creek Restaurant\, 27746 McBean Pkwy\, Valencia\, 91354
CATEGORIES:Social
ATTACH;FMTTYPE=image/jpeg:https://www.scvatheists.com/wp-content/uploads/2025/09/476221463_10233323160314478_7684150002679682813_n.jpg
END:VEVENT
BEGIN:VEVENT
DTSTART;TZID=America/Los_Angeles:20260316T183000
DTEND;TZID=America/Los_Angeles:20260316T210000
DTSTAMP:20260419T201948
CREATED:20250910T003159Z
LAST-MODIFIED:20260126T005533Z
UID:10000193-1773685800-1773694800@www.scvatheists.com
SUMMARY:Critical Drinking
DESCRIPTION:
URL:https://www.scvatheists.com/event/critical-drinking-2/2026-03-16/
LOCATION:Brewery Draconum\, 24407 Main St\, Santa Clarita\, 91321
CATEGORIES:Social
ATTACH;FMTTYPE=image/jpeg:https://www.scvatheists.com/wp-content/uploads/2025/09/492043085_10234159201574987_3090722750235637332_n.jpg
END:VEVENT
BEGIN:VEVENT
DTSTART;TZID=America/Los_Angeles:20260314T103000
DTEND;TZID=America/Los_Angeles:20260314T130000
DTSTAMP:20260419T201948
CREATED:20250910T003152Z
LAST-MODIFIED:20260126T005037Z
UID:10000019-1773484200-1773493200@www.scvatheists.com
SUMMARY:General Meeting
DESCRIPTION:Join our meetup for atheists\, freethinkers\, skeptics\, and those who just need a break from the largely theistic world. We get together for fellowship and discussion on the second Saturday of every month. Come join us! \nYou are welcome to ask questions if you are interested in the group\, or interested in learning more about atheism\, freethinking\, or skepticism. Religious people with a sincere interest in understanding us are welcome\, BUT please\, no proselytizing\, preaching\, or drive-by condemning. Uncivil or threatening behavior from anyone of any viewpoint will not be tolerated. If you wish to discuss something privately and confidentially\, contact one the group leaders by way of a private message. \nWe have regular monthly meetings where we provide confidential mutual support for nonbelievers living in a sometimes hostile environment. Family\, friends\, and co-workers are often unwilling to understand or accept our lack of belief in deities or the supernatural. We discuss pertinent issues in science\, politics\, and religion\, and generally enjoy being able to speak freely with each other. \nWe also work to improve the reputation of atheists in general and participate constructively in our local community through outreach efforts such as feeding the homeless\, participating in the annual River Rally\, Walk to End Alzheimer’s\, manning an information booth at appropriate community events in the SCV\, and sending representatives to interfaith events locally and in the greater Los Angeles area. \nIf you have questions\, please email Duncan Mandel at chairperson@scvatheists.com
URL:https://www.scvatheists.com/event/general-meeting/2026-03-14/
LOCATION:Stevenson Ranch Library\, 25950 The Old Rd.\, Stevenson Ranch\, CA\, 91381
CATEGORIES:General Meeting
ATTACH;FMTTYPE=image/jpeg:https://www.scvatheists.com/wp-content/uploads/2025/09/476353330_10233323083272552_5758454243684238861_n.jpg
END:VEVENT
BEGIN:VEVENT
DTSTART;TZID=America/Los_Angeles:20260310T190000
DTEND;TZID=America/Los_Angeles:20260310T200000
DTSTAMP:20260419T201948
CREATED:20210726T003116Z
LAST-MODIFIED:20260126T010320Z
UID:10000256-1773169200-1773172800@www.scvatheists.com
SUMMARY:Dear Leader's Meeting
DESCRIPTION:
URL:https://www.scvatheists.com/event/dear-leaders-meeting/2026-03-10/
LOCATION:Virtual Meeting
CATEGORIES:Board Meeting
END:VEVENT
BEGIN:VEVENT
DTSTART;TZID=America/Los_Angeles:20260224T190000
DTEND;TZID=America/Los_Angeles:20260224T200000
DTSTAMP:20260419T201948
CREATED:20210726T003116Z
LAST-MODIFIED:20260126T010320Z
UID:10000255-1771959600-1771963200@www.scvatheists.com
SUMMARY:Dear Leader's Meeting
DESCRIPTION:
URL:https://www.scvatheists.com/event/dear-leaders-meeting/2026-02-24/
LOCATION:Virtual Meeting
CATEGORIES:Board Meeting
END:VEVENT
BEGIN:VEVENT
DTSTART;TZID=America/Los_Angeles:20260222T110000
DTEND;TZID=America/Los_Angeles:20260222T130000
DTSTAMP:20260419T201948
CREATED:20250910T003201Z
LAST-MODIFIED:20260126T004758Z
UID:10000130-1771758000-1771765200@www.scvatheists.com
SUMMARY:Sunday Brunch
DESCRIPTION:
URL:https://www.scvatheists.com/event/sunday-brunch/2026-02-22/
LOCATION:Wolf Creek Restaurant\, 27746 McBean Pkwy\, Valencia\, 91354
CATEGORIES:Social
ATTACH;FMTTYPE=image/jpeg:https://www.scvatheists.com/wp-content/uploads/2025/09/476221463_10233323160314478_7684150002679682813_n.jpg
END:VEVENT
BEGIN:VEVENT
DTSTART;TZID=America/Los_Angeles:20260216T183000
DTEND;TZID=America/Los_Angeles:20260216T210000
DTSTAMP:20260419T201948
CREATED:20250910T003159Z
LAST-MODIFIED:20260126T005533Z
UID:10000192-1771266600-1771275600@www.scvatheists.com
SUMMARY:Critical Drinking
DESCRIPTION:
URL:https://www.scvatheists.com/event/critical-drinking-2/2026-02-16/
LOCATION:Brewery Draconum\, 24407 Main St\, Santa Clarita\, 91321
CATEGORIES:Social
ATTACH;FMTTYPE=image/jpeg:https://www.scvatheists.com/wp-content/uploads/2025/09/492043085_10234159201574987_3090722750235637332_n.jpg
END:VEVENT
BEGIN:VEVENT
DTSTART;TZID=America/Los_Angeles:20260214T103000
DTEND;TZID=America/Los_Angeles:20260214T130000
DTSTAMP:20260419T201948
CREATED:20250910T003152Z
LAST-MODIFIED:20260126T005037Z
UID:10000018-1771065000-1771074000@www.scvatheists.com
SUMMARY:General Meeting
DESCRIPTION:Join our meetup for atheists\, freethinkers\, skeptics\, and those who just need a break from the largely theistic world. We get together for fellowship and discussion on the second Saturday of every month. Come join us! \nYou are welcome to ask questions if you are interested in the group\, or interested in learning more about atheism\, freethinking\, or skepticism. Religious people with a sincere interest in understanding us are welcome\, BUT please\, no proselytizing\, preaching\, or drive-by condemning. Uncivil or threatening behavior from anyone of any viewpoint will not be tolerated. If you wish to discuss something privately and confidentially\, contact one the group leaders by way of a private message. \nWe have regular monthly meetings where we provide confidential mutual support for nonbelievers living in a sometimes hostile environment. Family\, friends\, and co-workers are often unwilling to understand or accept our lack of belief in deities or the supernatural. We discuss pertinent issues in science\, politics\, and religion\, and generally enjoy being able to speak freely with each other. \nWe also work to improve the reputation of atheists in general and participate constructively in our local community through outreach efforts such as feeding the homeless\, participating in the annual River Rally\, Walk to End Alzheimer’s\, manning an information booth at appropriate community events in the SCV\, and sending representatives to interfaith events locally and in the greater Los Angeles area. \nIf you have questions\, please email Duncan Mandel at chairperson@scvatheists.com
URL:https://www.scvatheists.com/event/general-meeting/2026-02-14/
LOCATION:Stevenson Ranch Library\, 25950 The Old Rd.\, Stevenson Ranch\, CA\, 91381
CATEGORIES:General Meeting
ATTACH;FMTTYPE=image/jpeg:https://www.scvatheists.com/wp-content/uploads/2025/09/476353330_10233323083272552_5758454243684238861_n.jpg
END:VEVENT
BEGIN:VEVENT
DTSTART;TZID=America/Los_Angeles:20260210T190000
DTEND;TZID=America/Los_Angeles:20260210T200000
DTSTAMP:20260419T201948
CREATED:20210726T003116Z
LAST-MODIFIED:20260126T010320Z
UID:10000254-1770750000-1770753600@www.scvatheists.com
SUMMARY:Dear Leader's Meeting
DESCRIPTION:
URL:https://www.scvatheists.com/event/dear-leaders-meeting/2026-02-10/
LOCATION:Virtual Meeting
CATEGORIES:Board Meeting
END:VEVENT
BEGIN:VEVENT
DTSTART;TZID=America/Los_Angeles:20260203T190000
DTEND;TZID=America/Los_Angeles:20260203T200000
DTSTAMP:20260419T201948
CREATED:20260126T010654Z
LAST-MODIFIED:20260126T012028Z
UID:10000253-1770145200-1770148800@www.scvatheists.com
SUMMARY:Dear Leader's Meeting
DESCRIPTION:
URL:https://www.scvatheists.com/event/dear-leaders-meeting-2/
LOCATION:Virtual Meeting
CATEGORIES:Board Meeting
END:VEVENT
BEGIN:VEVENT
DTSTART;TZID=America/Los_Angeles:20260125T110000
DTEND;TZID=America/Los_Angeles:20260125T130000
DTSTAMP:20260419T201948
CREATED:20250910T003201Z
LAST-MODIFIED:20260126T004758Z
UID:10000129-1769338800-1769346000@www.scvatheists.com
SUMMARY:Sunday Brunch
DESCRIPTION:
URL:https://www.scvatheists.com/event/sunday-brunch/2026-01-25/
LOCATION:Wolf Creek Restaurant\, 27746 McBean Pkwy\, Valencia\, 91354
CATEGORIES:Social
ATTACH;FMTTYPE=image/jpeg:https://www.scvatheists.com/wp-content/uploads/2025/09/476221463_10233323160314478_7684150002679682813_n.jpg
END:VEVENT
BEGIN:VEVENT
DTSTART;TZID=America/Los_Angeles:20260119T183000
DTEND;TZID=America/Los_Angeles:20260119T210000
DTSTAMP:20260419T201948
CREATED:20250910T003159Z
LAST-MODIFIED:20260126T005533Z
UID:10000191-1768847400-1768856400@www.scvatheists.com
SUMMARY:Critical Drinking
DESCRIPTION:
URL:https://www.scvatheists.com/event/critical-drinking-2/2026-01-19/
LOCATION:Brewery Draconum\, 24407 Main St\, Santa Clarita\, 91321
CATEGORIES:Social
ATTACH;FMTTYPE=image/jpeg:https://www.scvatheists.com/wp-content/uploads/2025/09/492043085_10234159201574987_3090722750235637332_n.jpg
END:VEVENT
BEGIN:VEVENT
DTSTART;TZID=America/Los_Angeles:20260113T190000
DTEND;TZID=America/Los_Angeles:20260113T200000
DTSTAMP:20260419T201948
CREATED:20210726T003116Z
LAST-MODIFIED:20260126T010320Z
UID:10000252-1768330800-1768334400@www.scvatheists.com
SUMMARY:Dear Leader's Meeting
DESCRIPTION:
URL:https://www.scvatheists.com/event/dear-leaders-meeting/2026-01-13/
LOCATION:Virtual Meeting
CATEGORIES:Board Meeting
END:VEVENT
BEGIN:VEVENT
DTSTART;TZID=America/Los_Angeles:20260110T103000
DTEND;TZID=America/Los_Angeles:20260110T130000
DTSTAMP:20260419T201948
CREATED:20250910T003152Z
LAST-MODIFIED:20260126T005037Z
UID:10000190-1768041000-1768050000@www.scvatheists.com
SUMMARY:General Meeting
DESCRIPTION:Join our meetup for atheists\, freethinkers\, skeptics\, and those who just need a break from the largely theistic world. We get together for fellowship and discussion on the second Saturday of every month. Come join us! \nYou are welcome to ask questions if you are interested in the group\, or interested in learning more about atheism\, freethinking\, or skepticism. Religious people with a sincere interest in understanding us are welcome\, BUT please\, no proselytizing\, preaching\, or drive-by condemning. Uncivil or threatening behavior from anyone of any viewpoint will not be tolerated. If you wish to discuss something privately and confidentially\, contact one the group leaders by way of a private message. \nWe have regular monthly meetings where we provide confidential mutual support for nonbelievers living in a sometimes hostile environment. Family\, friends\, and co-workers are often unwilling to understand or accept our lack of belief in deities or the supernatural. We discuss pertinent issues in science\, politics\, and religion\, and generally enjoy being able to speak freely with each other. \nWe also work to improve the reputation of atheists in general and participate constructively in our local community through outreach efforts such as feeding the homeless\, participating in the annual River Rally\, Walk to End Alzheimer’s\, manning an information booth at appropriate community events in the SCV\, and sending representatives to interfaith events locally and in the greater Los Angeles area. \nIf you have questions\, please email Duncan Mandel at chairperson@scvatheists.com
URL:https://www.scvatheists.com/event/general-meeting/2026-01-10/
LOCATION:Stevenson Ranch Library\, 25950 The Old Rd.\, Stevenson Ranch\, CA\, 91381
CATEGORIES:General Meeting
ATTACH;FMTTYPE=image/jpeg:https://www.scvatheists.com/wp-content/uploads/2025/09/476353330_10233323083272552_5758454243684238861_n.jpg
END:VEVENT
END:VCALENDAR