BEGIN:VCALENDAR
VERSION:2.0
PRODID:-//Santa Clarita Atheists &amp; Freethinkers - ECPv6.15.20//NONSGML v1.0//EN
CALSCALE:GREGORIAN
METHOD:PUBLISH
X-ORIGINAL-URL:https://www.scvatheists.com
X-WR-CALDESC:Events for Santa Clarita Atheists &amp; Freethinkers
REFRESH-INTERVAL;VALUE=DURATION:PT1H
X-Robots-Tag:noindex
X-PUBLISHED-TTL:PT1H
BEGIN:VTIMEZONE
TZID:America/Los_Angeles
BEGIN:DAYLIGHT
TZOFFSETFROM:-0800
TZOFFSETTO:-0700
TZNAME:PDT
DTSTART:20280312T100000
END:DAYLIGHT
BEGIN:STANDARD
TZOFFSETFROM:-0700
TZOFFSETTO:-0800
TZNAME:PST
DTSTART:20281105T090000
END:STANDARD
BEGIN:DAYLIGHT
TZOFFSETFROM:-0800
TZOFFSETTO:-0700
TZNAME:PDT
DTSTART:20290311T100000
END:DAYLIGHT
BEGIN:STANDARD
TZOFFSETFROM:-0700
TZOFFSETTO:-0800
TZNAME:PST
DTSTART:20291104T090000
END:STANDARD
BEGIN:DAYLIGHT
TZOFFSETFROM:-0800
TZOFFSETTO:-0700
TZNAME:PDT
DTSTART:20300310T100000
END:DAYLIGHT
BEGIN:STANDARD
TZOFFSETFROM:-0700
TZOFFSETTO:-0800
TZNAME:PST
DTSTART:20301103T090000
END:STANDARD
END:VTIMEZONE
BEGIN:VEVENT
DTSTART;TZID=America/Los_Angeles:20290527T110000
DTEND;TZID=America/Los_Angeles:20290527T130000
DTSTAMP:20260423T131711
CREATED:20250910T003201Z
LAST-MODIFIED:20260126T004758Z
UID:10000169-1874574000-1874581200@www.scvatheists.com
SUMMARY:Sunday Brunch
DESCRIPTION:
URL:https://www.scvatheists.com/event/sunday-brunch/2029-05-27/
LOCATION:Wolf Creek Restaurant\, 27746 McBean Pkwy\, Valencia\, 91354
CATEGORIES:Social
ATTACH;FMTTYPE=image/jpeg:https://www.scvatheists.com/wp-content/uploads/2025/09/476221463_10233323160314478_7684150002679682813_n.jpg
END:VEVENT
BEGIN:VEVENT
DTSTART;TZID=America/Los_Angeles:20290529T190000
DTEND;TZID=America/Los_Angeles:20290529T200000
DTSTAMP:20260423T131711
CREATED:20210726T003116Z
LAST-MODIFIED:20260126T010320Z
UID:10000340-1874775600-1874779200@www.scvatheists.com
SUMMARY:Dear Leader's Meeting
DESCRIPTION:
URL:https://www.scvatheists.com/event/dear-leaders-meeting/2029-05-29/
LOCATION:Virtual Meeting
CATEGORIES:Board Meeting
END:VEVENT
BEGIN:VEVENT
DTSTART;TZID=America/Los_Angeles:20290609T103000
DTEND;TZID=America/Los_Angeles:20290609T130000
DTSTAMP:20260423T131711
CREATED:20250910T003152Z
LAST-MODIFIED:20260126T005037Z
UID:10000058-1875695400-1875704400@www.scvatheists.com
SUMMARY:General Meeting
DESCRIPTION:Join our meetup for atheists\, freethinkers\, skeptics\, and those who just need a break from the largely theistic world. We get together for fellowship and discussion on the second Saturday of every month. Come join us! \nYou are welcome to ask questions if you are interested in the group\, or interested in learning more about atheism\, freethinking\, or skepticism. Religious people with a sincere interest in understanding us are welcome\, BUT please\, no proselytizing\, preaching\, or drive-by condemning. Uncivil or threatening behavior from anyone of any viewpoint will not be tolerated. If you wish to discuss something privately and confidentially\, contact one the group leaders by way of a private message. \nWe have regular monthly meetings where we provide confidential mutual support for nonbelievers living in a sometimes hostile environment. Family\, friends\, and co-workers are often unwilling to understand or accept our lack of belief in deities or the supernatural. We discuss pertinent issues in science\, politics\, and religion\, and generally enjoy being able to speak freely with each other. \nWe also work to improve the reputation of atheists in general and participate constructively in our local community through outreach efforts such as feeding the homeless\, participating in the annual River Rally\, Walk to End Alzheimer’s\, manning an information booth at appropriate community events in the SCV\, and sending representatives to interfaith events locally and in the greater Los Angeles area. \nIf you have questions\, please email Duncan Mandel at chairperson@scvatheists.com
URL:https://www.scvatheists.com/event/general-meeting/2029-06-09/
LOCATION:Stevenson Ranch Library\, 25950 The Old Rd.\, Stevenson Ranch\, CA\, 91381
CATEGORIES:General Meeting
ATTACH;FMTTYPE=image/jpeg:https://www.scvatheists.com/wp-content/uploads/2025/09/476353330_10233323083272552_5758454243684238861_n.jpg
END:VEVENT
BEGIN:VEVENT
DTSTART;TZID=America/Los_Angeles:20290612T190000
DTEND;TZID=America/Los_Angeles:20290612T200000
DTSTAMP:20260423T131711
CREATED:20210726T003116Z
LAST-MODIFIED:20260126T010320Z
UID:10000341-1875985200-1875988800@www.scvatheists.com
SUMMARY:Dear Leader's Meeting
DESCRIPTION:
URL:https://www.scvatheists.com/event/dear-leaders-meeting/2029-06-12/
LOCATION:Virtual Meeting
CATEGORIES:Board Meeting
END:VEVENT
BEGIN:VEVENT
DTSTART;TZID=America/Los_Angeles:20290618T183000
DTEND;TZID=America/Los_Angeles:20290618T210000
DTSTAMP:20260423T131711
CREATED:20250910T003159Z
LAST-MODIFIED:20260126T005533Z
UID:10000232-1876501800-1876510800@www.scvatheists.com
SUMMARY:Critical Drinking
DESCRIPTION:
URL:https://www.scvatheists.com/event/critical-drinking-2/2029-06-18/
LOCATION:Brewery Draconum\, 24407 Main St\, Santa Clarita\, 91321
CATEGORIES:Social
ATTACH;FMTTYPE=image/jpeg:https://www.scvatheists.com/wp-content/uploads/2025/09/492043085_10234159201574987_3090722750235637332_n.jpg
END:VEVENT
BEGIN:VEVENT
DTSTART;TZID=America/Los_Angeles:20290624T110000
DTEND;TZID=America/Los_Angeles:20290624T130000
DTSTAMP:20260423T131711
CREATED:20250910T003201Z
LAST-MODIFIED:20260126T004758Z
UID:10000170-1876993200-1877000400@www.scvatheists.com
SUMMARY:Sunday Brunch
DESCRIPTION:
URL:https://www.scvatheists.com/event/sunday-brunch/2029-06-24/
LOCATION:Wolf Creek Restaurant\, 27746 McBean Pkwy\, Valencia\, 91354
CATEGORIES:Social
ATTACH;FMTTYPE=image/jpeg:https://www.scvatheists.com/wp-content/uploads/2025/09/476221463_10233323160314478_7684150002679682813_n.jpg
END:VEVENT
BEGIN:VEVENT
DTSTART;TZID=America/Los_Angeles:20290626T190000
DTEND;TZID=America/Los_Angeles:20290626T200000
DTSTAMP:20260423T131711
CREATED:20210726T003116Z
LAST-MODIFIED:20260126T010320Z
UID:10000342-1877194800-1877198400@www.scvatheists.com
SUMMARY:Dear Leader's Meeting
DESCRIPTION:
URL:https://www.scvatheists.com/event/dear-leaders-meeting/2029-06-26/
LOCATION:Virtual Meeting
CATEGORIES:Board Meeting
END:VEVENT
BEGIN:VEVENT
DTSTART;TZID=America/Los_Angeles:20290710T190000
DTEND;TZID=America/Los_Angeles:20290710T200000
DTSTAMP:20260423T131711
CREATED:20210726T003116Z
LAST-MODIFIED:20260126T010320Z
UID:10000343-1878404400-1878408000@www.scvatheists.com
SUMMARY:Dear Leader's Meeting
DESCRIPTION:
URL:https://www.scvatheists.com/event/dear-leaders-meeting/2029-07-10/
LOCATION:Virtual Meeting
CATEGORIES:Board Meeting
END:VEVENT
BEGIN:VEVENT
DTSTART;TZID=America/Los_Angeles:20290714T103000
DTEND;TZID=America/Los_Angeles:20290714T130000
DTSTAMP:20260423T131711
CREATED:20250910T003152Z
LAST-MODIFIED:20260126T005037Z
UID:10000059-1878719400-1878728400@www.scvatheists.com
SUMMARY:General Meeting
DESCRIPTION:Join our meetup for atheists\, freethinkers\, skeptics\, and those who just need a break from the largely theistic world. We get together for fellowship and discussion on the second Saturday of every month. Come join us! \nYou are welcome to ask questions if you are interested in the group\, or interested in learning more about atheism\, freethinking\, or skepticism. Religious people with a sincere interest in understanding us are welcome\, BUT please\, no proselytizing\, preaching\, or drive-by condemning. Uncivil or threatening behavior from anyone of any viewpoint will not be tolerated. If you wish to discuss something privately and confidentially\, contact one the group leaders by way of a private message. \nWe have regular monthly meetings where we provide confidential mutual support for nonbelievers living in a sometimes hostile environment. Family\, friends\, and co-workers are often unwilling to understand or accept our lack of belief in deities or the supernatural. We discuss pertinent issues in science\, politics\, and religion\, and generally enjoy being able to speak freely with each other. \nWe also work to improve the reputation of atheists in general and participate constructively in our local community through outreach efforts such as feeding the homeless\, participating in the annual River Rally\, Walk to End Alzheimer’s\, manning an information booth at appropriate community events in the SCV\, and sending representatives to interfaith events locally and in the greater Los Angeles area. \nIf you have questions\, please email Duncan Mandel at chairperson@scvatheists.com
URL:https://www.scvatheists.com/event/general-meeting/2029-07-14/
LOCATION:Stevenson Ranch Library\, 25950 The Old Rd.\, Stevenson Ranch\, CA\, 91381
CATEGORIES:General Meeting
ATTACH;FMTTYPE=image/jpeg:https://www.scvatheists.com/wp-content/uploads/2025/09/476353330_10233323083272552_5758454243684238861_n.jpg
END:VEVENT
BEGIN:VEVENT
DTSTART;TZID=America/Los_Angeles:20290716T183000
DTEND;TZID=America/Los_Angeles:20290716T210000
DTSTAMP:20260423T131711
CREATED:20250910T003159Z
LAST-MODIFIED:20260126T005533Z
UID:10000233-1878921000-1878930000@www.scvatheists.com
SUMMARY:Critical Drinking
DESCRIPTION:
URL:https://www.scvatheists.com/event/critical-drinking-2/2029-07-16/
LOCATION:Brewery Draconum\, 24407 Main St\, Santa Clarita\, 91321
CATEGORIES:Social
ATTACH;FMTTYPE=image/jpeg:https://www.scvatheists.com/wp-content/uploads/2025/09/492043085_10234159201574987_3090722750235637332_n.jpg
END:VEVENT
BEGIN:VEVENT
DTSTART;TZID=America/Los_Angeles:20290722T110000
DTEND;TZID=America/Los_Angeles:20290722T130000
DTSTAMP:20260423T131711
CREATED:20250910T003201Z
LAST-MODIFIED:20260126T004758Z
UID:10000171-1879412400-1879419600@www.scvatheists.com
SUMMARY:Sunday Brunch
DESCRIPTION:
URL:https://www.scvatheists.com/event/sunday-brunch/2029-07-22/
LOCATION:Wolf Creek Restaurant\, 27746 McBean Pkwy\, Valencia\, 91354
CATEGORIES:Social
ATTACH;FMTTYPE=image/jpeg:https://www.scvatheists.com/wp-content/uploads/2025/09/476221463_10233323160314478_7684150002679682813_n.jpg
END:VEVENT
BEGIN:VEVENT
DTSTART;TZID=America/Los_Angeles:20290724T190000
DTEND;TZID=America/Los_Angeles:20290724T200000
DTSTAMP:20260423T131711
CREATED:20210726T003116Z
LAST-MODIFIED:20260126T010320Z
UID:10000344-1879614000-1879617600@www.scvatheists.com
SUMMARY:Dear Leader's Meeting
DESCRIPTION:
URL:https://www.scvatheists.com/event/dear-leaders-meeting/2029-07-24/
LOCATION:Virtual Meeting
CATEGORIES:Board Meeting
END:VEVENT
BEGIN:VEVENT
DTSTART;TZID=America/Los_Angeles:20290807T190000
DTEND;TZID=America/Los_Angeles:20290807T200000
DTSTAMP:20260423T131711
CREATED:20210726T003116Z
LAST-MODIFIED:20260126T010320Z
UID:10000345-1880823600-1880827200@www.scvatheists.com
SUMMARY:Dear Leader's Meeting
DESCRIPTION:
URL:https://www.scvatheists.com/event/dear-leaders-meeting/2029-08-07/
LOCATION:Virtual Meeting
CATEGORIES:Board Meeting
END:VEVENT
BEGIN:VEVENT
DTSTART;TZID=America/Los_Angeles:20290811T103000
DTEND;TZID=America/Los_Angeles:20290811T130000
DTSTAMP:20260423T131711
CREATED:20250910T003152Z
LAST-MODIFIED:20260126T005037Z
UID:10000060-1881138600-1881147600@www.scvatheists.com
SUMMARY:General Meeting
DESCRIPTION:Join our meetup for atheists\, freethinkers\, skeptics\, and those who just need a break from the largely theistic world. We get together for fellowship and discussion on the second Saturday of every month. Come join us! \nYou are welcome to ask questions if you are interested in the group\, or interested in learning more about atheism\, freethinking\, or skepticism. Religious people with a sincere interest in understanding us are welcome\, BUT please\, no proselytizing\, preaching\, or drive-by condemning. Uncivil or threatening behavior from anyone of any viewpoint will not be tolerated. If you wish to discuss something privately and confidentially\, contact one the group leaders by way of a private message. \nWe have regular monthly meetings where we provide confidential mutual support for nonbelievers living in a sometimes hostile environment. Family\, friends\, and co-workers are often unwilling to understand or accept our lack of belief in deities or the supernatural. We discuss pertinent issues in science\, politics\, and religion\, and generally enjoy being able to speak freely with each other. \nWe also work to improve the reputation of atheists in general and participate constructively in our local community through outreach efforts such as feeding the homeless\, participating in the annual River Rally\, Walk to End Alzheimer’s\, manning an information booth at appropriate community events in the SCV\, and sending representatives to interfaith events locally and in the greater Los Angeles area. \nIf you have questions\, please email Duncan Mandel at chairperson@scvatheists.com
URL:https://www.scvatheists.com/event/general-meeting/2029-08-11/
LOCATION:Stevenson Ranch Library\, 25950 The Old Rd.\, Stevenson Ranch\, CA\, 91381
CATEGORIES:General Meeting
ATTACH;FMTTYPE=image/jpeg:https://www.scvatheists.com/wp-content/uploads/2025/09/476353330_10233323083272552_5758454243684238861_n.jpg
END:VEVENT
BEGIN:VEVENT
DTSTART;TZID=America/Los_Angeles:20290820T183000
DTEND;TZID=America/Los_Angeles:20290820T210000
DTSTAMP:20260423T131711
CREATED:20250910T003159Z
LAST-MODIFIED:20260126T005533Z
UID:10000234-1881945000-1881954000@www.scvatheists.com
SUMMARY:Critical Drinking
DESCRIPTION:
URL:https://www.scvatheists.com/event/critical-drinking-2/2029-08-20/
LOCATION:Brewery Draconum\, 24407 Main St\, Santa Clarita\, 91321
CATEGORIES:Social
ATTACH;FMTTYPE=image/jpeg:https://www.scvatheists.com/wp-content/uploads/2025/09/492043085_10234159201574987_3090722750235637332_n.jpg
END:VEVENT
BEGIN:VEVENT
DTSTART;TZID=America/Los_Angeles:20290821T190000
DTEND;TZID=America/Los_Angeles:20290821T200000
DTSTAMP:20260423T131711
CREATED:20210726T003116Z
LAST-MODIFIED:20260126T010320Z
UID:10000346-1882033200-1882036800@www.scvatheists.com
SUMMARY:Dear Leader's Meeting
DESCRIPTION:
URL:https://www.scvatheists.com/event/dear-leaders-meeting/2029-08-21/
LOCATION:Virtual Meeting
CATEGORIES:Board Meeting
END:VEVENT
BEGIN:VEVENT
DTSTART;TZID=America/Los_Angeles:20290826T110000
DTEND;TZID=America/Los_Angeles:20290826T130000
DTSTAMP:20260423T131711
CREATED:20250910T003201Z
LAST-MODIFIED:20260126T004758Z
UID:10000172-1882436400-1882443600@www.scvatheists.com
SUMMARY:Sunday Brunch
DESCRIPTION:
URL:https://www.scvatheists.com/event/sunday-brunch/2029-08-26/
LOCATION:Wolf Creek Restaurant\, 27746 McBean Pkwy\, Valencia\, 91354
CATEGORIES:Social
ATTACH;FMTTYPE=image/jpeg:https://www.scvatheists.com/wp-content/uploads/2025/09/476221463_10233323160314478_7684150002679682813_n.jpg
END:VEVENT
BEGIN:VEVENT
DTSTART;TZID=America/Los_Angeles:20290904T190000
DTEND;TZID=America/Los_Angeles:20290904T200000
DTSTAMP:20260423T131711
CREATED:20210726T003116Z
LAST-MODIFIED:20260126T010320Z
UID:10000347-1883242800-1883246400@www.scvatheists.com
SUMMARY:Dear Leader's Meeting
DESCRIPTION:
URL:https://www.scvatheists.com/event/dear-leaders-meeting/2029-09-04/
LOCATION:Virtual Meeting
CATEGORIES:Board Meeting
END:VEVENT
BEGIN:VEVENT
DTSTART;TZID=America/Los_Angeles:20290908T103000
DTEND;TZID=America/Los_Angeles:20290908T130000
DTSTAMP:20260423T131711
CREATED:20250910T003152Z
LAST-MODIFIED:20260126T005037Z
UID:10000061-1883557800-1883566800@www.scvatheists.com
SUMMARY:General Meeting
DESCRIPTION:Join our meetup for atheists\, freethinkers\, skeptics\, and those who just need a break from the largely theistic world. We get together for fellowship and discussion on the second Saturday of every month. Come join us! \nYou are welcome to ask questions if you are interested in the group\, or interested in learning more about atheism\, freethinking\, or skepticism. Religious people with a sincere interest in understanding us are welcome\, BUT please\, no proselytizing\, preaching\, or drive-by condemning. Uncivil or threatening behavior from anyone of any viewpoint will not be tolerated. If you wish to discuss something privately and confidentially\, contact one the group leaders by way of a private message. \nWe have regular monthly meetings where we provide confidential mutual support for nonbelievers living in a sometimes hostile environment. Family\, friends\, and co-workers are often unwilling to understand or accept our lack of belief in deities or the supernatural. We discuss pertinent issues in science\, politics\, and religion\, and generally enjoy being able to speak freely with each other. \nWe also work to improve the reputation of atheists in general and participate constructively in our local community through outreach efforts such as feeding the homeless\, participating in the annual River Rally\, Walk to End Alzheimer’s\, manning an information booth at appropriate community events in the SCV\, and sending representatives to interfaith events locally and in the greater Los Angeles area. \nIf you have questions\, please email Duncan Mandel at chairperson@scvatheists.com
URL:https://www.scvatheists.com/event/general-meeting/2029-09-08/
LOCATION:Stevenson Ranch Library\, 25950 The Old Rd.\, Stevenson Ranch\, CA\, 91381
CATEGORIES:General Meeting
ATTACH;FMTTYPE=image/jpeg:https://www.scvatheists.com/wp-content/uploads/2025/09/476353330_10233323083272552_5758454243684238861_n.jpg
END:VEVENT
BEGIN:VEVENT
DTSTART;TZID=America/Los_Angeles:20290917T183000
DTEND;TZID=America/Los_Angeles:20290917T210000
DTSTAMP:20260423T131711
CREATED:20250910T003159Z
LAST-MODIFIED:20260126T005533Z
UID:10000235-1884364200-1884373200@www.scvatheists.com
SUMMARY:Critical Drinking
DESCRIPTION:
URL:https://www.scvatheists.com/event/critical-drinking-2/2029-09-17/
LOCATION:Brewery Draconum\, 24407 Main St\, Santa Clarita\, 91321
CATEGORIES:Social
ATTACH;FMTTYPE=image/jpeg:https://www.scvatheists.com/wp-content/uploads/2025/09/492043085_10234159201574987_3090722750235637332_n.jpg
END:VEVENT
BEGIN:VEVENT
DTSTART;TZID=America/Los_Angeles:20290918T190000
DTEND;TZID=America/Los_Angeles:20290918T200000
DTSTAMP:20260423T131711
CREATED:20210726T003116Z
LAST-MODIFIED:20260126T010320Z
UID:10000348-1884452400-1884456000@www.scvatheists.com
SUMMARY:Dear Leader's Meeting
DESCRIPTION:
URL:https://www.scvatheists.com/event/dear-leaders-meeting/2029-09-18/
LOCATION:Virtual Meeting
CATEGORIES:Board Meeting
END:VEVENT
BEGIN:VEVENT
DTSTART;TZID=America/Los_Angeles:20290923T110000
DTEND;TZID=America/Los_Angeles:20290923T130000
DTSTAMP:20260423T131711
CREATED:20250910T003201Z
LAST-MODIFIED:20260126T004758Z
UID:10000173-1884855600-1884862800@www.scvatheists.com
SUMMARY:Sunday Brunch
DESCRIPTION:
URL:https://www.scvatheists.com/event/sunday-brunch/2029-09-23/
LOCATION:Wolf Creek Restaurant\, 27746 McBean Pkwy\, Valencia\, 91354
CATEGORIES:Social
ATTACH;FMTTYPE=image/jpeg:https://www.scvatheists.com/wp-content/uploads/2025/09/476221463_10233323160314478_7684150002679682813_n.jpg
END:VEVENT
BEGIN:VEVENT
DTSTART;TZID=America/Los_Angeles:20291002T190000
DTEND;TZID=America/Los_Angeles:20291002T200000
DTSTAMP:20260423T131712
CREATED:20210726T003116Z
LAST-MODIFIED:20260126T010320Z
UID:10000349-1885662000-1885665600@www.scvatheists.com
SUMMARY:Dear Leader's Meeting
DESCRIPTION:
URL:https://www.scvatheists.com/event/dear-leaders-meeting/2029-10-02/
LOCATION:Virtual Meeting
CATEGORIES:Board Meeting
END:VEVENT
BEGIN:VEVENT
DTSTART;TZID=America/Los_Angeles:20291013T103000
DTEND;TZID=America/Los_Angeles:20291013T130000
DTSTAMP:20260423T131712
CREATED:20250910T003152Z
LAST-MODIFIED:20260126T005037Z
UID:10000062-1886581800-1886590800@www.scvatheists.com
SUMMARY:General Meeting
DESCRIPTION:Join our meetup for atheists\, freethinkers\, skeptics\, and those who just need a break from the largely theistic world. We get together for fellowship and discussion on the second Saturday of every month. Come join us! \nYou are welcome to ask questions if you are interested in the group\, or interested in learning more about atheism\, freethinking\, or skepticism. Religious people with a sincere interest in understanding us are welcome\, BUT please\, no proselytizing\, preaching\, or drive-by condemning. Uncivil or threatening behavior from anyone of any viewpoint will not be tolerated. If you wish to discuss something privately and confidentially\, contact one the group leaders by way of a private message. \nWe have regular monthly meetings where we provide confidential mutual support for nonbelievers living in a sometimes hostile environment. Family\, friends\, and co-workers are often unwilling to understand or accept our lack of belief in deities or the supernatural. We discuss pertinent issues in science\, politics\, and religion\, and generally enjoy being able to speak freely with each other. \nWe also work to improve the reputation of atheists in general and participate constructively in our local community through outreach efforts such as feeding the homeless\, participating in the annual River Rally\, Walk to End Alzheimer’s\, manning an information booth at appropriate community events in the SCV\, and sending representatives to interfaith events locally and in the greater Los Angeles area. \nIf you have questions\, please email Duncan Mandel at chairperson@scvatheists.com
URL:https://www.scvatheists.com/event/general-meeting/2029-10-13/
LOCATION:Stevenson Ranch Library\, 25950 The Old Rd.\, Stevenson Ranch\, CA\, 91381
CATEGORIES:General Meeting
ATTACH;FMTTYPE=image/jpeg:https://www.scvatheists.com/wp-content/uploads/2025/09/476353330_10233323083272552_5758454243684238861_n.jpg
END:VEVENT
BEGIN:VEVENT
DTSTART;TZID=America/Los_Angeles:20291015T183000
DTEND;TZID=America/Los_Angeles:20291015T210000
DTSTAMP:20260423T131712
CREATED:20250910T003159Z
LAST-MODIFIED:20260126T005533Z
UID:10000236-1886783400-1886792400@www.scvatheists.com
SUMMARY:Critical Drinking
DESCRIPTION:
URL:https://www.scvatheists.com/event/critical-drinking-2/2029-10-15/
LOCATION:Brewery Draconum\, 24407 Main St\, Santa Clarita\, 91321
CATEGORIES:Social
ATTACH;FMTTYPE=image/jpeg:https://www.scvatheists.com/wp-content/uploads/2025/09/492043085_10234159201574987_3090722750235637332_n.jpg
END:VEVENT
BEGIN:VEVENT
DTSTART;TZID=America/Los_Angeles:20291016T190000
DTEND;TZID=America/Los_Angeles:20291016T200000
DTSTAMP:20260423T131712
CREATED:20210726T003116Z
LAST-MODIFIED:20260126T010320Z
UID:10000350-1886871600-1886875200@www.scvatheists.com
SUMMARY:Dear Leader's Meeting
DESCRIPTION:
URL:https://www.scvatheists.com/event/dear-leaders-meeting/2029-10-16/
LOCATION:Virtual Meeting
CATEGORIES:Board Meeting
END:VEVENT
BEGIN:VEVENT
DTSTART;TZID=America/Los_Angeles:20291028T110000
DTEND;TZID=America/Los_Angeles:20291028T130000
DTSTAMP:20260423T131712
CREATED:20250910T003201Z
LAST-MODIFIED:20260126T004758Z
UID:10000174-1887879600-1887886800@www.scvatheists.com
SUMMARY:Sunday Brunch
DESCRIPTION:
URL:https://www.scvatheists.com/event/sunday-brunch/2029-10-28/
LOCATION:Wolf Creek Restaurant\, 27746 McBean Pkwy\, Valencia\, 91354
CATEGORIES:Social
ATTACH;FMTTYPE=image/jpeg:https://www.scvatheists.com/wp-content/uploads/2025/09/476221463_10233323160314478_7684150002679682813_n.jpg
END:VEVENT
BEGIN:VEVENT
DTSTART;TZID=America/Los_Angeles:20291030T190000
DTEND;TZID=America/Los_Angeles:20291030T200000
DTSTAMP:20260423T131712
CREATED:20210726T003116Z
LAST-MODIFIED:20260126T010320Z
UID:10000351-1888081200-1888084800@www.scvatheists.com
SUMMARY:Dear Leader's Meeting
DESCRIPTION:
URL:https://www.scvatheists.com/event/dear-leaders-meeting/2029-10-30/
LOCATION:Virtual Meeting
CATEGORIES:Board Meeting
END:VEVENT
BEGIN:VEVENT
DTSTART;TZID=America/Los_Angeles:20291110T103000
DTEND;TZID=America/Los_Angeles:20291110T130000
DTSTAMP:20260423T131712
CREATED:20250910T003152Z
LAST-MODIFIED:20260126T005037Z
UID:10000063-1889001000-1889010000@www.scvatheists.com
SUMMARY:General Meeting
DESCRIPTION:Join our meetup for atheists\, freethinkers\, skeptics\, and those who just need a break from the largely theistic world. We get together for fellowship and discussion on the second Saturday of every month. Come join us! \nYou are welcome to ask questions if you are interested in the group\, or interested in learning more about atheism\, freethinking\, or skepticism. Religious people with a sincere interest in understanding us are welcome\, BUT please\, no proselytizing\, preaching\, or drive-by condemning. Uncivil or threatening behavior from anyone of any viewpoint will not be tolerated. If you wish to discuss something privately and confidentially\, contact one the group leaders by way of a private message. \nWe have regular monthly meetings where we provide confidential mutual support for nonbelievers living in a sometimes hostile environment. Family\, friends\, and co-workers are often unwilling to understand or accept our lack of belief in deities or the supernatural. We discuss pertinent issues in science\, politics\, and religion\, and generally enjoy being able to speak freely with each other. \nWe also work to improve the reputation of atheists in general and participate constructively in our local community through outreach efforts such as feeding the homeless\, participating in the annual River Rally\, Walk to End Alzheimer’s\, manning an information booth at appropriate community events in the SCV\, and sending representatives to interfaith events locally and in the greater Los Angeles area. \nIf you have questions\, please email Duncan Mandel at chairperson@scvatheists.com
URL:https://www.scvatheists.com/event/general-meeting/2029-11-10/
LOCATION:Stevenson Ranch Library\, 25950 The Old Rd.\, Stevenson Ranch\, CA\, 91381
CATEGORIES:General Meeting
ATTACH;FMTTYPE=image/jpeg:https://www.scvatheists.com/wp-content/uploads/2025/09/476353330_10233323083272552_5758454243684238861_n.jpg
END:VEVENT
BEGIN:VEVENT
DTSTART;TZID=America/Los_Angeles:20291113T190000
DTEND;TZID=America/Los_Angeles:20291113T200000
DTSTAMP:20260423T131712
CREATED:20210726T003116Z
LAST-MODIFIED:20260126T010320Z
UID:10000352-1889290800-1889294400@www.scvatheists.com
SUMMARY:Dear Leader's Meeting
DESCRIPTION:
URL:https://www.scvatheists.com/event/dear-leaders-meeting/2029-11-13/
LOCATION:Virtual Meeting
CATEGORIES:Board Meeting
END:VEVENT
END:VCALENDAR