BEGIN:VCALENDAR
VERSION:2.0
PRODID:-//Santa Clarita Atheists &amp; Freethinkers - ECPv6.15.20//NONSGML v1.0//EN
CALSCALE:GREGORIAN
METHOD:PUBLISH
X-ORIGINAL-URL:https://www.scvatheists.com
X-WR-CALDESC:Events for Santa Clarita Atheists &amp; Freethinkers
REFRESH-INTERVAL;VALUE=DURATION:PT1H
X-Robots-Tag:noindex
X-PUBLISHED-TTL:PT1H
BEGIN:VTIMEZONE
TZID:America/Los_Angeles
BEGIN:DAYLIGHT
TZOFFSETFROM:-0800
TZOFFSETTO:-0700
TZNAME:PDT
DTSTART:20280312T100000
END:DAYLIGHT
BEGIN:STANDARD
TZOFFSETFROM:-0700
TZOFFSETTO:-0800
TZNAME:PST
DTSTART:20281105T090000
END:STANDARD
BEGIN:DAYLIGHT
TZOFFSETFROM:-0800
TZOFFSETTO:-0700
TZNAME:PDT
DTSTART:20290311T100000
END:DAYLIGHT
BEGIN:STANDARD
TZOFFSETFROM:-0700
TZOFFSETTO:-0800
TZNAME:PST
DTSTART:20291104T090000
END:STANDARD
BEGIN:DAYLIGHT
TZOFFSETFROM:-0800
TZOFFSETTO:-0700
TZNAME:PDT
DTSTART:20300310T100000
END:DAYLIGHT
BEGIN:STANDARD
TZOFFSETFROM:-0700
TZOFFSETTO:-0800
TZNAME:PST
DTSTART:20301103T090000
END:STANDARD
BEGIN:DAYLIGHT
TZOFFSETFROM:-0800
TZOFFSETTO:-0700
TZNAME:PDT
DTSTART:20310309T100000
END:DAYLIGHT
BEGIN:STANDARD
TZOFFSETFROM:-0700
TZOFFSETTO:-0800
TZNAME:PST
DTSTART:20311102T090000
END:STANDARD
END:VTIMEZONE
BEGIN:VEVENT
DTSTART;TZID=America/Los_Angeles:20291015T183000
DTEND;TZID=America/Los_Angeles:20291015T210000
DTSTAMP:20260423T170014
CREATED:20250910T003159Z
LAST-MODIFIED:20260126T005533Z
UID:10000236-1886783400-1886792400@www.scvatheists.com
SUMMARY:Critical Drinking
DESCRIPTION:
URL:https://www.scvatheists.com/event/critical-drinking-2/2029-10-15/
LOCATION:Brewery Draconum\, 24407 Main St\, Santa Clarita\, 91321
CATEGORIES:Social
ATTACH;FMTTYPE=image/jpeg:https://www.scvatheists.com/wp-content/uploads/2025/09/492043085_10234159201574987_3090722750235637332_n.jpg
END:VEVENT
BEGIN:VEVENT
DTSTART;TZID=America/Los_Angeles:20291016T190000
DTEND;TZID=America/Los_Angeles:20291016T200000
DTSTAMP:20260423T170014
CREATED:20210726T003116Z
LAST-MODIFIED:20260126T010320Z
UID:10000350-1886871600-1886875200@www.scvatheists.com
SUMMARY:Dear Leader's Meeting
DESCRIPTION:
URL:https://www.scvatheists.com/event/dear-leaders-meeting/2029-10-16/
LOCATION:Virtual Meeting
CATEGORIES:Board Meeting
END:VEVENT
BEGIN:VEVENT
DTSTART;TZID=America/Los_Angeles:20291028T110000
DTEND;TZID=America/Los_Angeles:20291028T130000
DTSTAMP:20260423T170014
CREATED:20250910T003201Z
LAST-MODIFIED:20260126T004758Z
UID:10000174-1887879600-1887886800@www.scvatheists.com
SUMMARY:Sunday Brunch
DESCRIPTION:
URL:https://www.scvatheists.com/event/sunday-brunch/2029-10-28/
LOCATION:Wolf Creek Restaurant\, 27746 McBean Pkwy\, Valencia\, 91354
CATEGORIES:Social
ATTACH;FMTTYPE=image/jpeg:https://www.scvatheists.com/wp-content/uploads/2025/09/476221463_10233323160314478_7684150002679682813_n.jpg
END:VEVENT
BEGIN:VEVENT
DTSTART;TZID=America/Los_Angeles:20291030T190000
DTEND;TZID=America/Los_Angeles:20291030T200000
DTSTAMP:20260423T170014
CREATED:20210726T003116Z
LAST-MODIFIED:20260126T010320Z
UID:10000351-1888081200-1888084800@www.scvatheists.com
SUMMARY:Dear Leader's Meeting
DESCRIPTION:
URL:https://www.scvatheists.com/event/dear-leaders-meeting/2029-10-30/
LOCATION:Virtual Meeting
CATEGORIES:Board Meeting
END:VEVENT
BEGIN:VEVENT
DTSTART;TZID=America/Los_Angeles:20291110T103000
DTEND;TZID=America/Los_Angeles:20291110T130000
DTSTAMP:20260423T170014
CREATED:20250910T003152Z
LAST-MODIFIED:20260126T005037Z
UID:10000063-1889001000-1889010000@www.scvatheists.com
SUMMARY:General Meeting
DESCRIPTION:Join our meetup for atheists\, freethinkers\, skeptics\, and those who just need a break from the largely theistic world. We get together for fellowship and discussion on the second Saturday of every month. Come join us! \nYou are welcome to ask questions if you are interested in the group\, or interested in learning more about atheism\, freethinking\, or skepticism. Religious people with a sincere interest in understanding us are welcome\, BUT please\, no proselytizing\, preaching\, or drive-by condemning. Uncivil or threatening behavior from anyone of any viewpoint will not be tolerated. If you wish to discuss something privately and confidentially\, contact one the group leaders by way of a private message. \nWe have regular monthly meetings where we provide confidential mutual support for nonbelievers living in a sometimes hostile environment. Family\, friends\, and co-workers are often unwilling to understand or accept our lack of belief in deities or the supernatural. We discuss pertinent issues in science\, politics\, and religion\, and generally enjoy being able to speak freely with each other. \nWe also work to improve the reputation of atheists in general and participate constructively in our local community through outreach efforts such as feeding the homeless\, participating in the annual River Rally\, Walk to End Alzheimer’s\, manning an information booth at appropriate community events in the SCV\, and sending representatives to interfaith events locally and in the greater Los Angeles area. \nIf you have questions\, please email Duncan Mandel at chairperson@scvatheists.com
URL:https://www.scvatheists.com/event/general-meeting/2029-11-10/
LOCATION:Stevenson Ranch Library\, 25950 The Old Rd.\, Stevenson Ranch\, CA\, 91381
CATEGORIES:General Meeting
ATTACH;FMTTYPE=image/jpeg:https://www.scvatheists.com/wp-content/uploads/2025/09/476353330_10233323083272552_5758454243684238861_n.jpg
END:VEVENT
BEGIN:VEVENT
DTSTART;TZID=America/Los_Angeles:20291113T190000
DTEND;TZID=America/Los_Angeles:20291113T200000
DTSTAMP:20260423T170014
CREATED:20210726T003116Z
LAST-MODIFIED:20260126T010320Z
UID:10000352-1889290800-1889294400@www.scvatheists.com
SUMMARY:Dear Leader's Meeting
DESCRIPTION:
URL:https://www.scvatheists.com/event/dear-leaders-meeting/2029-11-13/
LOCATION:Virtual Meeting
CATEGORIES:Board Meeting
END:VEVENT
BEGIN:VEVENT
DTSTART;TZID=America/Los_Angeles:20291119T183000
DTEND;TZID=America/Los_Angeles:20291119T210000
DTSTAMP:20260423T170014
CREATED:20250910T003159Z
LAST-MODIFIED:20260126T005533Z
UID:10000237-1889807400-1889816400@www.scvatheists.com
SUMMARY:Critical Drinking
DESCRIPTION:
URL:https://www.scvatheists.com/event/critical-drinking-2/2029-11-19/
LOCATION:Brewery Draconum\, 24407 Main St\, Santa Clarita\, 91321
CATEGORIES:Social
ATTACH;FMTTYPE=image/jpeg:https://www.scvatheists.com/wp-content/uploads/2025/09/492043085_10234159201574987_3090722750235637332_n.jpg
END:VEVENT
BEGIN:VEVENT
DTSTART;TZID=America/Los_Angeles:20291125T110000
DTEND;TZID=America/Los_Angeles:20291125T130000
DTSTAMP:20260423T170014
CREATED:20250910T003201Z
LAST-MODIFIED:20260126T004758Z
UID:10000175-1890298800-1890306000@www.scvatheists.com
SUMMARY:Sunday Brunch
DESCRIPTION:
URL:https://www.scvatheists.com/event/sunday-brunch/2029-11-25/
LOCATION:Wolf Creek Restaurant\, 27746 McBean Pkwy\, Valencia\, 91354
CATEGORIES:Social
ATTACH;FMTTYPE=image/jpeg:https://www.scvatheists.com/wp-content/uploads/2025/09/476221463_10233323160314478_7684150002679682813_n.jpg
END:VEVENT
BEGIN:VEVENT
DTSTART;TZID=America/Los_Angeles:20291127T190000
DTEND;TZID=America/Los_Angeles:20291127T200000
DTSTAMP:20260423T170014
CREATED:20210726T003116Z
LAST-MODIFIED:20260126T010320Z
UID:10000353-1890500400-1890504000@www.scvatheists.com
SUMMARY:Dear Leader's Meeting
DESCRIPTION:
URL:https://www.scvatheists.com/event/dear-leaders-meeting/2029-11-27/
LOCATION:Virtual Meeting
CATEGORIES:Board Meeting
END:VEVENT
BEGIN:VEVENT
DTSTART;TZID=America/Los_Angeles:20291208T103000
DTEND;TZID=America/Los_Angeles:20291208T130000
DTSTAMP:20260423T170014
CREATED:20250910T003152Z
LAST-MODIFIED:20260126T005037Z
UID:10000064-1891420200-1891429200@www.scvatheists.com
SUMMARY:General Meeting
DESCRIPTION:Join our meetup for atheists\, freethinkers\, skeptics\, and those who just need a break from the largely theistic world. We get together for fellowship and discussion on the second Saturday of every month. Come join us! \nYou are welcome to ask questions if you are interested in the group\, or interested in learning more about atheism\, freethinking\, or skepticism. Religious people with a sincere interest in understanding us are welcome\, BUT please\, no proselytizing\, preaching\, or drive-by condemning. Uncivil or threatening behavior from anyone of any viewpoint will not be tolerated. If you wish to discuss something privately and confidentially\, contact one the group leaders by way of a private message. \nWe have regular monthly meetings where we provide confidential mutual support for nonbelievers living in a sometimes hostile environment. Family\, friends\, and co-workers are often unwilling to understand or accept our lack of belief in deities or the supernatural. We discuss pertinent issues in science\, politics\, and religion\, and generally enjoy being able to speak freely with each other. \nWe also work to improve the reputation of atheists in general and participate constructively in our local community through outreach efforts such as feeding the homeless\, participating in the annual River Rally\, Walk to End Alzheimer’s\, manning an information booth at appropriate community events in the SCV\, and sending representatives to interfaith events locally and in the greater Los Angeles area. \nIf you have questions\, please email Duncan Mandel at chairperson@scvatheists.com
URL:https://www.scvatheists.com/event/general-meeting/2029-12-08/
LOCATION:Stevenson Ranch Library\, 25950 The Old Rd.\, Stevenson Ranch\, CA\, 91381
CATEGORIES:General Meeting
ATTACH;FMTTYPE=image/jpeg:https://www.scvatheists.com/wp-content/uploads/2025/09/476353330_10233323083272552_5758454243684238861_n.jpg
END:VEVENT
BEGIN:VEVENT
DTSTART;TZID=America/Los_Angeles:20291211T190000
DTEND;TZID=America/Los_Angeles:20291211T200000
DTSTAMP:20260423T170014
CREATED:20210726T003116Z
LAST-MODIFIED:20260126T010320Z
UID:10000354-1891710000-1891713600@www.scvatheists.com
SUMMARY:Dear Leader's Meeting
DESCRIPTION:
URL:https://www.scvatheists.com/event/dear-leaders-meeting/2029-12-11/
LOCATION:Virtual Meeting
CATEGORIES:Board Meeting
END:VEVENT
BEGIN:VEVENT
DTSTART;TZID=America/Los_Angeles:20291217T183000
DTEND;TZID=America/Los_Angeles:20291217T210000
DTSTAMP:20260423T170014
CREATED:20250910T003159Z
LAST-MODIFIED:20260126T005533Z
UID:10000238-1892226600-1892235600@www.scvatheists.com
SUMMARY:Critical Drinking
DESCRIPTION:
URL:https://www.scvatheists.com/event/critical-drinking-2/2029-12-17/
LOCATION:Brewery Draconum\, 24407 Main St\, Santa Clarita\, 91321
CATEGORIES:Social
ATTACH;FMTTYPE=image/jpeg:https://www.scvatheists.com/wp-content/uploads/2025/09/492043085_10234159201574987_3090722750235637332_n.jpg
END:VEVENT
BEGIN:VEVENT
DTSTART;TZID=America/Los_Angeles:20291223T110000
DTEND;TZID=America/Los_Angeles:20291223T130000
DTSTAMP:20260423T170014
CREATED:20250910T003201Z
LAST-MODIFIED:20260126T004758Z
UID:10000176-1892718000-1892725200@www.scvatheists.com
SUMMARY:Sunday Brunch
DESCRIPTION:
URL:https://www.scvatheists.com/event/sunday-brunch/2029-12-23/
LOCATION:Wolf Creek Restaurant\, 27746 McBean Pkwy\, Valencia\, 91354
CATEGORIES:Social
ATTACH;FMTTYPE=image/jpeg:https://www.scvatheists.com/wp-content/uploads/2025/09/476221463_10233323160314478_7684150002679682813_n.jpg
END:VEVENT
BEGIN:VEVENT
DTSTART;TZID=America/Los_Angeles:20291225T190000
DTEND;TZID=America/Los_Angeles:20291225T200000
DTSTAMP:20260423T170014
CREATED:20210726T003116Z
LAST-MODIFIED:20260126T010320Z
UID:10000355-1892919600-1892923200@www.scvatheists.com
SUMMARY:Dear Leader's Meeting
DESCRIPTION:
URL:https://www.scvatheists.com/event/dear-leaders-meeting/2029-12-25/
LOCATION:Virtual Meeting
CATEGORIES:Board Meeting
END:VEVENT
BEGIN:VEVENT
DTSTART;TZID=America/Los_Angeles:20300108T190000
DTEND;TZID=America/Los_Angeles:20300108T200000
DTSTAMP:20260423T170014
CREATED:20210726T003116Z
LAST-MODIFIED:20260126T010320Z
UID:10000356-1894129200-1894132800@www.scvatheists.com
SUMMARY:Dear Leader's Meeting
DESCRIPTION:
URL:https://www.scvatheists.com/event/dear-leaders-meeting/2030-01-08/
LOCATION:Virtual Meeting
CATEGORIES:Board Meeting
END:VEVENT
BEGIN:VEVENT
DTSTART;TZID=America/Los_Angeles:20300112T103000
DTEND;TZID=America/Los_Angeles:20300112T130000
DTSTAMP:20260423T170014
CREATED:20250910T003152Z
LAST-MODIFIED:20260126T005037Z
UID:10000065-1894444200-1894453200@www.scvatheists.com
SUMMARY:General Meeting
DESCRIPTION:Join our meetup for atheists\, freethinkers\, skeptics\, and those who just need a break from the largely theistic world. We get together for fellowship and discussion on the second Saturday of every month. Come join us! \nYou are welcome to ask questions if you are interested in the group\, or interested in learning more about atheism\, freethinking\, or skepticism. Religious people with a sincere interest in understanding us are welcome\, BUT please\, no proselytizing\, preaching\, or drive-by condemning. Uncivil or threatening behavior from anyone of any viewpoint will not be tolerated. If you wish to discuss something privately and confidentially\, contact one the group leaders by way of a private message. \nWe have regular monthly meetings where we provide confidential mutual support for nonbelievers living in a sometimes hostile environment. Family\, friends\, and co-workers are often unwilling to understand or accept our lack of belief in deities or the supernatural. We discuss pertinent issues in science\, politics\, and religion\, and generally enjoy being able to speak freely with each other. \nWe also work to improve the reputation of atheists in general and participate constructively in our local community through outreach efforts such as feeding the homeless\, participating in the annual River Rally\, Walk to End Alzheimer’s\, manning an information booth at appropriate community events in the SCV\, and sending representatives to interfaith events locally and in the greater Los Angeles area. \nIf you have questions\, please email Duncan Mandel at chairperson@scvatheists.com
URL:https://www.scvatheists.com/event/general-meeting/2030-01-12/
LOCATION:Stevenson Ranch Library\, 25950 The Old Rd.\, Stevenson Ranch\, CA\, 91381
CATEGORIES:General Meeting
ATTACH;FMTTYPE=image/jpeg:https://www.scvatheists.com/wp-content/uploads/2025/09/476353330_10233323083272552_5758454243684238861_n.jpg
END:VEVENT
BEGIN:VEVENT
DTSTART;TZID=America/Los_Angeles:20300121T183000
DTEND;TZID=America/Los_Angeles:20300121T210000
DTSTAMP:20260423T170014
CREATED:20250910T003159Z
LAST-MODIFIED:20260126T005533Z
UID:10000239-1895250600-1895259600@www.scvatheists.com
SUMMARY:Critical Drinking
DESCRIPTION:
URL:https://www.scvatheists.com/event/critical-drinking-2/2030-01-21/
LOCATION:Brewery Draconum\, 24407 Main St\, Santa Clarita\, 91321
CATEGORIES:Social
ATTACH;FMTTYPE=image/jpeg:https://www.scvatheists.com/wp-content/uploads/2025/09/492043085_10234159201574987_3090722750235637332_n.jpg
END:VEVENT
BEGIN:VEVENT
DTSTART;TZID=America/Los_Angeles:20300122T190000
DTEND;TZID=America/Los_Angeles:20300122T200000
DTSTAMP:20260423T170014
CREATED:20210726T003116Z
LAST-MODIFIED:20260126T010320Z
UID:10000357-1895338800-1895342400@www.scvatheists.com
SUMMARY:Dear Leader's Meeting
DESCRIPTION:
URL:https://www.scvatheists.com/event/dear-leaders-meeting/2030-01-22/
LOCATION:Virtual Meeting
CATEGORIES:Board Meeting
END:VEVENT
BEGIN:VEVENT
DTSTART;TZID=America/Los_Angeles:20300127T110000
DTEND;TZID=America/Los_Angeles:20300127T130000
DTSTAMP:20260423T170014
CREATED:20250910T003201Z
LAST-MODIFIED:20260126T004758Z
UID:10000177-1895742000-1895749200@www.scvatheists.com
SUMMARY:Sunday Brunch
DESCRIPTION:
URL:https://www.scvatheists.com/event/sunday-brunch/2030-01-27/
LOCATION:Wolf Creek Restaurant\, 27746 McBean Pkwy\, Valencia\, 91354
CATEGORIES:Social
ATTACH;FMTTYPE=image/jpeg:https://www.scvatheists.com/wp-content/uploads/2025/09/476221463_10233323160314478_7684150002679682813_n.jpg
END:VEVENT
BEGIN:VEVENT
DTSTART;TZID=America/Los_Angeles:20300205T190000
DTEND;TZID=America/Los_Angeles:20300205T200000
DTSTAMP:20260423T170014
CREATED:20210726T003116Z
LAST-MODIFIED:20260126T010320Z
UID:10000358-1896548400-1896552000@www.scvatheists.com
SUMMARY:Dear Leader's Meeting
DESCRIPTION:
URL:https://www.scvatheists.com/event/dear-leaders-meeting/2030-02-05/
LOCATION:Virtual Meeting
CATEGORIES:Board Meeting
END:VEVENT
BEGIN:VEVENT
DTSTART;TZID=America/Los_Angeles:20300209T103000
DTEND;TZID=America/Los_Angeles:20300209T130000
DTSTAMP:20260423T170014
CREATED:20250910T003152Z
LAST-MODIFIED:20260126T005037Z
UID:10000066-1896863400-1896872400@www.scvatheists.com
SUMMARY:General Meeting
DESCRIPTION:Join our meetup for atheists\, freethinkers\, skeptics\, and those who just need a break from the largely theistic world. We get together for fellowship and discussion on the second Saturday of every month. Come join us! \nYou are welcome to ask questions if you are interested in the group\, or interested in learning more about atheism\, freethinking\, or skepticism. Religious people with a sincere interest in understanding us are welcome\, BUT please\, no proselytizing\, preaching\, or drive-by condemning. Uncivil or threatening behavior from anyone of any viewpoint will not be tolerated. If you wish to discuss something privately and confidentially\, contact one the group leaders by way of a private message. \nWe have regular monthly meetings where we provide confidential mutual support for nonbelievers living in a sometimes hostile environment. Family\, friends\, and co-workers are often unwilling to understand or accept our lack of belief in deities or the supernatural. We discuss pertinent issues in science\, politics\, and religion\, and generally enjoy being able to speak freely with each other. \nWe also work to improve the reputation of atheists in general and participate constructively in our local community through outreach efforts such as feeding the homeless\, participating in the annual River Rally\, Walk to End Alzheimer’s\, manning an information booth at appropriate community events in the SCV\, and sending representatives to interfaith events locally and in the greater Los Angeles area. \nIf you have questions\, please email Duncan Mandel at chairperson@scvatheists.com
URL:https://www.scvatheists.com/event/general-meeting/2030-02-09/
LOCATION:Stevenson Ranch Library\, 25950 The Old Rd.\, Stevenson Ranch\, CA\, 91381
CATEGORIES:General Meeting
ATTACH;FMTTYPE=image/jpeg:https://www.scvatheists.com/wp-content/uploads/2025/09/476353330_10233323083272552_5758454243684238861_n.jpg
END:VEVENT
BEGIN:VEVENT
DTSTART;TZID=America/Los_Angeles:20300218T183000
DTEND;TZID=America/Los_Angeles:20300218T210000
DTSTAMP:20260423T170014
CREATED:20250910T003159Z
LAST-MODIFIED:20260126T005533Z
UID:10000240-1897669800-1897678800@www.scvatheists.com
SUMMARY:Critical Drinking
DESCRIPTION:
URL:https://www.scvatheists.com/event/critical-drinking-2/2030-02-18/
LOCATION:Brewery Draconum\, 24407 Main St\, Santa Clarita\, 91321
CATEGORIES:Social
ATTACH;FMTTYPE=image/jpeg:https://www.scvatheists.com/wp-content/uploads/2025/09/492043085_10234159201574987_3090722750235637332_n.jpg
END:VEVENT
BEGIN:VEVENT
DTSTART;TZID=America/Los_Angeles:20300219T190000
DTEND;TZID=America/Los_Angeles:20300219T200000
DTSTAMP:20260423T170014
CREATED:20210726T003116Z
LAST-MODIFIED:20260126T010320Z
UID:10000359-1897758000-1897761600@www.scvatheists.com
SUMMARY:Dear Leader's Meeting
DESCRIPTION:
URL:https://www.scvatheists.com/event/dear-leaders-meeting/2030-02-19/
LOCATION:Virtual Meeting
CATEGORIES:Board Meeting
END:VEVENT
BEGIN:VEVENT
DTSTART;TZID=America/Los_Angeles:20300224T110000
DTEND;TZID=America/Los_Angeles:20300224T130000
DTSTAMP:20260423T170014
CREATED:20250910T003201Z
LAST-MODIFIED:20260126T004758Z
UID:10000178-1898161200-1898168400@www.scvatheists.com
SUMMARY:Sunday Brunch
DESCRIPTION:
URL:https://www.scvatheists.com/event/sunday-brunch/2030-02-24/
LOCATION:Wolf Creek Restaurant\, 27746 McBean Pkwy\, Valencia\, 91354
CATEGORIES:Social
ATTACH;FMTTYPE=image/jpeg:https://www.scvatheists.com/wp-content/uploads/2025/09/476221463_10233323160314478_7684150002679682813_n.jpg
END:VEVENT
BEGIN:VEVENT
DTSTART;TZID=America/Los_Angeles:20300305T190000
DTEND;TZID=America/Los_Angeles:20300305T200000
DTSTAMP:20260423T170014
CREATED:20210726T003116Z
LAST-MODIFIED:20260126T010320Z
UID:10000360-1898967600-1898971200@www.scvatheists.com
SUMMARY:Dear Leader's Meeting
DESCRIPTION:
URL:https://www.scvatheists.com/event/dear-leaders-meeting/2030-03-05/
LOCATION:Virtual Meeting
CATEGORIES:Board Meeting
END:VEVENT
BEGIN:VEVENT
DTSTART;TZID=America/Los_Angeles:20300309T103000
DTEND;TZID=America/Los_Angeles:20300309T130000
DTSTAMP:20260423T170014
CREATED:20250910T003152Z
LAST-MODIFIED:20260126T005037Z
UID:10000067-1899282600-1899291600@www.scvatheists.com
SUMMARY:General Meeting
DESCRIPTION:Join our meetup for atheists\, freethinkers\, skeptics\, and those who just need a break from the largely theistic world. We get together for fellowship and discussion on the second Saturday of every month. Come join us! \nYou are welcome to ask questions if you are interested in the group\, or interested in learning more about atheism\, freethinking\, or skepticism. Religious people with a sincere interest in understanding us are welcome\, BUT please\, no proselytizing\, preaching\, or drive-by condemning. Uncivil or threatening behavior from anyone of any viewpoint will not be tolerated. If you wish to discuss something privately and confidentially\, contact one the group leaders by way of a private message. \nWe have regular monthly meetings where we provide confidential mutual support for nonbelievers living in a sometimes hostile environment. Family\, friends\, and co-workers are often unwilling to understand or accept our lack of belief in deities or the supernatural. We discuss pertinent issues in science\, politics\, and religion\, and generally enjoy being able to speak freely with each other. \nWe also work to improve the reputation of atheists in general and participate constructively in our local community through outreach efforts such as feeding the homeless\, participating in the annual River Rally\, Walk to End Alzheimer’s\, manning an information booth at appropriate community events in the SCV\, and sending representatives to interfaith events locally and in the greater Los Angeles area. \nIf you have questions\, please email Duncan Mandel at chairperson@scvatheists.com
URL:https://www.scvatheists.com/event/general-meeting/2030-03-09/
LOCATION:Stevenson Ranch Library\, 25950 The Old Rd.\, Stevenson Ranch\, CA\, 91381
CATEGORIES:General Meeting
ATTACH;FMTTYPE=image/jpeg:https://www.scvatheists.com/wp-content/uploads/2025/09/476353330_10233323083272552_5758454243684238861_n.jpg
END:VEVENT
BEGIN:VEVENT
DTSTART;TZID=America/Los_Angeles:20300318T183000
DTEND;TZID=America/Los_Angeles:20300318T210000
DTSTAMP:20260423T170014
CREATED:20250910T003159Z
LAST-MODIFIED:20260126T005533Z
UID:10000241-1900089000-1900098000@www.scvatheists.com
SUMMARY:Critical Drinking
DESCRIPTION:
URL:https://www.scvatheists.com/event/critical-drinking-2/2030-03-18/
LOCATION:Brewery Draconum\, 24407 Main St\, Santa Clarita\, 91321
CATEGORIES:Social
ATTACH;FMTTYPE=image/jpeg:https://www.scvatheists.com/wp-content/uploads/2025/09/492043085_10234159201574987_3090722750235637332_n.jpg
END:VEVENT
BEGIN:VEVENT
DTSTART;TZID=America/Los_Angeles:20300319T190000
DTEND;TZID=America/Los_Angeles:20300319T200000
DTSTAMP:20260423T170014
CREATED:20210726T003116Z
LAST-MODIFIED:20260126T010320Z
UID:10000361-1900177200-1900180800@www.scvatheists.com
SUMMARY:Dear Leader's Meeting
DESCRIPTION:
URL:https://www.scvatheists.com/event/dear-leaders-meeting/2030-03-19/
LOCATION:Virtual Meeting
CATEGORIES:Board Meeting
END:VEVENT
BEGIN:VEVENT
DTSTART;TZID=America/Los_Angeles:20300324T110000
DTEND;TZID=America/Los_Angeles:20300324T130000
DTSTAMP:20260423T170014
CREATED:20250910T003201Z
LAST-MODIFIED:20260126T004758Z
UID:10000179-1900580400-1900587600@www.scvatheists.com
SUMMARY:Sunday Brunch
DESCRIPTION:
URL:https://www.scvatheists.com/event/sunday-brunch/2030-03-24/
LOCATION:Wolf Creek Restaurant\, 27746 McBean Pkwy\, Valencia\, 91354
CATEGORIES:Social
ATTACH;FMTTYPE=image/jpeg:https://www.scvatheists.com/wp-content/uploads/2025/09/476221463_10233323160314478_7684150002679682813_n.jpg
END:VEVENT
BEGIN:VEVENT
DTSTART;TZID=America/Los_Angeles:20300402T190000
DTEND;TZID=America/Los_Angeles:20300402T200000
DTSTAMP:20260423T170014
CREATED:20210726T003116Z
LAST-MODIFIED:20260126T010320Z
UID:10000362-1901386800-1901390400@www.scvatheists.com
SUMMARY:Dear Leader's Meeting
DESCRIPTION:
URL:https://www.scvatheists.com/event/dear-leaders-meeting/2030-04-02/
LOCATION:Virtual Meeting
CATEGORIES:Board Meeting
END:VEVENT
END:VCALENDAR